BEGIN:VCALENDAR
VERSION:2.0
PRODID:-//Louis T Graves Memorial Public Library - ECPv6.15.20//NONSGML v1.0//EN
CALSCALE:GREGORIAN
METHOD:PUBLISH
X-WR-CALNAME:Louis T Graves Memorial Public Library
X-ORIGINAL-URL:https://graveslibrary.org
X-WR-CALDESC:Events for Louis T Graves Memorial Public Library
REFRESH-INTERVAL;VALUE=DURATION:PT1H
X-Robots-Tag:noindex
X-PUBLISHED-TTL:PT1H
BEGIN:VTIMEZONE
TZID:America/New_York
BEGIN:DAYLIGHT
TZOFFSETFROM:-0500
TZOFFSETTO:-0400
TZNAME:EDT
DTSTART:20230312T070000
END:DAYLIGHT
BEGIN:STANDARD
TZOFFSETFROM:-0400
TZOFFSETTO:-0500
TZNAME:EST
DTSTART:20231105T060000
END:STANDARD
BEGIN:DAYLIGHT
TZOFFSETFROM:-0500
TZOFFSETTO:-0400
TZNAME:EDT
DTSTART:20240310T070000
END:DAYLIGHT
BEGIN:STANDARD
TZOFFSETFROM:-0400
TZOFFSETTO:-0500
TZNAME:EST
DTSTART:20241103T060000
END:STANDARD
BEGIN:DAYLIGHT
TZOFFSETFROM:-0500
TZOFFSETTO:-0400
TZNAME:EDT
DTSTART:20250309T070000
END:DAYLIGHT
BEGIN:STANDARD
TZOFFSETFROM:-0400
TZOFFSETTO:-0500
TZNAME:EST
DTSTART:20251102T060000
END:STANDARD
END:VTIMEZONE
BEGIN:VEVENT
DTSTART;TZID=America/New_York:20240213T120000
DTEND;TZID=America/New_York:20240213T130000
DTSTAMP:20260423T011213
CREATED:20240118T155807Z
LAST-MODIFIED:20240118T155807Z
UID:10005054-1707825600-1707829200@graveslibrary.org
SUMMARY:YOUR HEALTH MATTERS - LUNCHTIME BOOK GROUP
DESCRIPTION:Your Health Matters Book Club \nJoin us Tuesday\, February 13 at 12 PM. Louis T. Graves Memorial  Public Library and the Kennebunkport Public Health Department invite you to participate in a lunchtime book discussion of “Sober Curious” by Ruby Warrington. Copies of the book are available at the Library. Not able to read the book before this date? You may still join the discussion. Feel free to bring your lunch. The Louis T. Graves Memorial Public Library is located at 18 Maine Street\, Kennebunkport. \n \n  \n  \n  \nFor further information\, please call 967-2778 or visit our website at www.graveslibrary.org.
URL:https://graveslibrary.org/event/your-health-matters-lunchtime-book-group-4/
LOCATION:Louis T. Graves Memorial Public Library @ 18 Maine St\, Kennebunkport\, ME 04046\, USA\, 18 Maine Street\, Kennebunkport\, ME\, 04046\, United States
CATEGORIES:General Events
ORGANIZER;CN="Loretta Swift%2C Library Director":MAILTO:lbsgraves@gmail.com
GEO:43.34755;-70.469411
X-APPLE-STRUCTURED-LOCATION;VALUE=URI;X-ADDRESS=Louis T. Graves Memorial Public Library @ 18 Maine St Kennebunkport ME 04046 USA 18 Maine Street Kennebunkport ME 04046 United States;X-APPLE-RADIUS=500;X-TITLE=18 Maine Street:geo:-70.469411,43.34755
END:VEVENT
BEGIN:VEVENT
DTSTART;TZID=America/New_York:20240213T151500
DTEND;TZID=America/New_York:20240213T160000
DTSTAMP:20260423T011213
CREATED:20240118T160240Z
LAST-MODIFIED:20240213T134936Z
UID:10005055-1707837300-1707840000@graveslibrary.org
SUMMARY:HIBERNATION PROGRAM
DESCRIPTION:Hibernation Program with the Center for Wildlife \nJoin us for an interesting program with a special guest from the Center for Wildlife on Tuesday\, February 13\, from 3:15 to 4:00 PM. The Center for Wildlife is a private\, non-profit conservation medicine and environmental education organization located in Cape Neddick\, ME. What will it be? A bird? A bat? Come in and see! For all ages\, pre-registration is required. \n \n  \nThe Library is located at 18 Maine Street\, Kennebunkport. For further information\, please call 967-2778 or visit our website at www.graveslibrary.org.
URL:https://graveslibrary.org/event/hibernation-program/
LOCATION:Louis T. Graves Memorial Public Library @ 18 Maine St\, Kennebunkport\, ME 04046\, USA\, 18 Maine Street\, Kennebunkport\, ME\, 04046\, United States
CATEGORIES:Kids And Teen Events
ORGANIZER;CN="Terri Bauld%2C Children's Librarian":MAILTO:tbbgraves@gmail.com
GEO:43.34755;-70.469411
X-APPLE-STRUCTURED-LOCATION;VALUE=URI;X-ADDRESS=Louis T. Graves Memorial Public Library @ 18 Maine St Kennebunkport ME 04046 USA 18 Maine Street Kennebunkport ME 04046 United States;X-APPLE-RADIUS=500;X-TITLE=18 Maine Street:geo:-70.469411,43.34755
END:VEVENT
END:VCALENDAR