BEGIN:VCALENDAR
VERSION:2.0
PRODID:-//Louis T Graves Memorial Public Library - ECPv6.15.20//NONSGML v1.0//EN
CALSCALE:GREGORIAN
METHOD:PUBLISH
X-WR-CALNAME:Louis T Graves Memorial Public Library
X-ORIGINAL-URL:https://graveslibrary.org
X-WR-CALDESC:Events for Louis T Graves Memorial Public Library
REFRESH-INTERVAL;VALUE=DURATION:PT1H
X-Robots-Tag:noindex
X-PUBLISHED-TTL:PT1H
BEGIN:VTIMEZONE
TZID:America/New_York
BEGIN:DAYLIGHT
TZOFFSETFROM:-0500
TZOFFSETTO:-0400
TZNAME:EDT
DTSTART:20230312T070000
END:DAYLIGHT
BEGIN:STANDARD
TZOFFSETFROM:-0400
TZOFFSETTO:-0500
TZNAME:EST
DTSTART:20231105T060000
END:STANDARD
BEGIN:DAYLIGHT
TZOFFSETFROM:-0500
TZOFFSETTO:-0400
TZNAME:EDT
DTSTART:20240310T070000
END:DAYLIGHT
BEGIN:STANDARD
TZOFFSETFROM:-0400
TZOFFSETTO:-0500
TZNAME:EST
DTSTART:20241103T060000
END:STANDARD
BEGIN:DAYLIGHT
TZOFFSETFROM:-0500
TZOFFSETTO:-0400
TZNAME:EDT
DTSTART:20250309T070000
END:DAYLIGHT
BEGIN:STANDARD
TZOFFSETFROM:-0400
TZOFFSETTO:-0500
TZNAME:EST
DTSTART:20251102T060000
END:STANDARD
END:VTIMEZONE
BEGIN:VEVENT
DTSTART;TZID=America/New_York:20240229T150000
DTEND;TZID=America/New_York:20240229T163000
DTSTAMP:20260425T082029
CREATED:20240118T163529Z
LAST-MODIFIED:20240118T163529Z
UID:10005060-1709218800-1709224200@graveslibrary.org
SUMMARY:LEAP FROG COOKIES
DESCRIPTION:Leap Frog Cookies \nIt’s Leap Year! Celebrate with us by coming in for a Leap Frog cookie on Thursday\, February 29 from 3:00-4:30 PM. \n \nThe Louis T. Graves Memorial Public Library is located at 18 Maine Street\, Kennebunkport. For further information\, please call 967-2778 or visit our website at www.graveslibrary.org.
URL:https://graveslibrary.org/event/leap-frog-cookies/
LOCATION:Louis T. Graves Memorial Public Library @ 18 Maine St\, Kennebunkport\, ME 04046\, USA\, 18 Maine Street\, Kennebunkport\, ME\, 04046\, United States
CATEGORIES:General Events
ORGANIZER;CN="Loretta Swift%2C Library Director":MAILTO:lbsgraves@gmail.com
GEO:43.34755;-70.469411
X-APPLE-STRUCTURED-LOCATION;VALUE=URI;X-ADDRESS=Louis T. Graves Memorial Public Library @ 18 Maine St Kennebunkport ME 04046 USA 18 Maine Street Kennebunkport ME 04046 United States;X-APPLE-RADIUS=500;X-TITLE=18 Maine Street:geo:-70.469411,43.34755
END:VEVENT
BEGIN:VEVENT
DTSTART;TZID=America/New_York:20240229T170000
DTEND;TZID=America/New_York:20240229T180000
DTSTAMP:20260425T082029
CREATED:20240118T164008Z
LAST-MODIFIED:20240118T170239Z
UID:10005061-1709226000-1709229600@graveslibrary.org
SUMMARY:EVENING BOOK GROUP
DESCRIPTION:Evening Book Group \nJoin us on Thursday\, February 29th for this month’s book group. All are welcome to attend. \nPlease give us a call at 967-2778 for more information on this event and other upcoming reads. \n  \n\n  \n 
URL:https://graveslibrary.org/event/evening-book-group-26/
LOCATION:Louis T. Graves Memorial Public Library @ 18 Maine St\, Kennebunkport\, ME 04046\, USA\, 18 Maine Street\, Kennebunkport\, ME\, 04046\, United States
CATEGORIES:General Events
ORGANIZER;CN="Loretta Swift%2C Library Director":MAILTO:lbsgraves@gmail.com
GEO:43.34755;-70.469411
X-APPLE-STRUCTURED-LOCATION;VALUE=URI;X-ADDRESS=Louis T. Graves Memorial Public Library @ 18 Maine St Kennebunkport ME 04046 USA 18 Maine Street Kennebunkport ME 04046 United States;X-APPLE-RADIUS=500;X-TITLE=18 Maine Street:geo:-70.469411,43.34755
END:VEVENT
BEGIN:VEVENT
DTSTART;TZID=America/New_York:20240229T170000
DTEND;TZID=America/New_York:20240229T190000
DTSTAMP:20260425T082029
CREATED:20240201T145037Z
LAST-MODIFIED:20240201T145037Z
UID:10005069-1709226000-1709233200@graveslibrary.org
SUMMARY:SIP & SHOP
DESCRIPTION:Sip and Shop in the Book Cellar \nThursday\, February 29\, 5:00-7:00 PM \nSip and Shop at the Book Cellar provides a unique opportunity to discover new books and authors as well as a relaxing way to peruse your favorite books while enjoying a delicious beverage. Come explore the Book Cellar and shop with friends. You are sure to find an old favorite that you would love to read again\, whether you’re in the mood for a classic novel\, a new-to-you release\, art books\, cookbooks\, or biographies\, the Book Cellar has something for everyone. Never been to the Book Cellar? You are in for a treat! It’s full of gently used\, and even sometimes new\, books at greatly reduced prices. \nThe Louis T. Graves Memorial Public Library is located at 18 Maine Street\, Kennebunkport. For further information\, please call 967-2778 or visit our website at www.graveslibrary.org.
URL:https://graveslibrary.org/event/sip-shop/
LOCATION:Louis T. Graves Memorial Public Library @ 18 Maine St\, Kennebunkport\, ME 04046\, USA\, 18 Maine Street\, Kennebunkport\, ME\, 04046\, United States
CATEGORIES:General Events
GEO:43.34755;-70.469411
X-APPLE-STRUCTURED-LOCATION;VALUE=URI;X-ADDRESS=Louis T. Graves Memorial Public Library @ 18 Maine St Kennebunkport ME 04046 USA 18 Maine Street Kennebunkport ME 04046 United States;X-APPLE-RADIUS=500;X-TITLE=18 Maine Street:geo:-70.469411,43.34755
END:VEVENT
BEGIN:VEVENT
DTSTART;TZID=America/New_York:20240229T184500
DTEND;TZID=America/New_York:20240229T203000
DTSTAMP:20260425T082029
CREATED:20240118T170459Z
LAST-MODIFIED:20240118T170459Z
UID:10005062-1709232300-1709238600@graveslibrary.org
SUMMARY:MONTHLY MOVIE NIGHT AT GRAVES LIBRARY
DESCRIPTION:Monthly Movie Night!  Join us for a great night of theater\, snacks\, and friends on Thursday\, February 29 at 6:45 PM in the Community Room. \nJoin us for our monthly movie night. All are welcome to attend. Light refreshments will be served. \n \nFilm discussion and educational opportunity. The Louis T. Graves Memorial Public Library is located at 18 Maine Street\, Kennebunkport. For further information\, please call 967-2778 or visit our website at www.graveslibrary.org. \n  \n  \n  \n  \n  \n  \n 
URL:https://graveslibrary.org/event/monthly-movie-night-at-graves-library-13/
LOCATION:Louis T. Graves Memorial Public Library @ 18 Maine St\, Kennebunkport\, ME 04046\, USA\, 18 Maine Street\, Kennebunkport\, ME\, 04046\, United States
CATEGORIES:General Events
ORGANIZER;CN="Loretta Swift%2C Library Director":MAILTO:lbsgraves@gmail.com
GEO:43.34755;-70.469411
X-APPLE-STRUCTURED-LOCATION;VALUE=URI;X-ADDRESS=Louis T. Graves Memorial Public Library @ 18 Maine St Kennebunkport ME 04046 USA 18 Maine Street Kennebunkport ME 04046 United States;X-APPLE-RADIUS=500;X-TITLE=18 Maine Street:geo:-70.469411,43.34755
END:VEVENT
END:VCALENDAR