BEGIN:VCALENDAR
VERSION:2.0
PRODID:-//Louis T Graves Memorial Public Library - ECPv6.15.20//NONSGML v1.0//EN
CALSCALE:GREGORIAN
METHOD:PUBLISH
X-ORIGINAL-URL:https://graveslibrary.org
X-WR-CALDESC:Events for Louis T Graves Memorial Public Library
REFRESH-INTERVAL;VALUE=DURATION:PT1H
X-Robots-Tag:noindex
X-PUBLISHED-TTL:PT1H
BEGIN:VTIMEZONE
TZID:America/New_York
BEGIN:DAYLIGHT
TZOFFSETFROM:-0500
TZOFFSETTO:-0400
TZNAME:EDT
DTSTART:20230312T070000
END:DAYLIGHT
BEGIN:STANDARD
TZOFFSETFROM:-0400
TZOFFSETTO:-0500
TZNAME:EST
DTSTART:20231105T060000
END:STANDARD
BEGIN:DAYLIGHT
TZOFFSETFROM:-0500
TZOFFSETTO:-0400
TZNAME:EDT
DTSTART:20240310T070000
END:DAYLIGHT
BEGIN:STANDARD
TZOFFSETFROM:-0400
TZOFFSETTO:-0500
TZNAME:EST
DTSTART:20241103T060000
END:STANDARD
BEGIN:DAYLIGHT
TZOFFSETFROM:-0500
TZOFFSETTO:-0400
TZNAME:EDT
DTSTART:20250309T070000
END:DAYLIGHT
BEGIN:STANDARD
TZOFFSETFROM:-0400
TZOFFSETTO:-0500
TZNAME:EST
DTSTART:20251102T060000
END:STANDARD
END:VTIMEZONE
BEGIN:VEVENT
DTSTART;TZID=America/New_York:20240508T173000
DTEND;TZID=America/New_York:20240508T183000
DTSTAMP:20260420T105316
CREATED:20240416T143153Z
LAST-MODIFIED:20240501T000445Z
UID:10005170-1715189400-1715193000@graveslibrary.org
SUMMARY:PLANTING FOR CLIMATE RESILIENCE - MAY 8 @ 5:30 PM
DESCRIPTION:PLANTING FOR CLIMATE RESILIENCE IN NORTHEAST LANDSCAPES \nWEDNESDAY\, MAY 8 AT 5:30 PM \nTogether with our Friends of Rachel Carson National Wildlife Refuge\, we are very excited to be hosting members of the Wild Seed Project. In addition to helping to sustain vital pollinators\, birds\, and other wildlife\, native plantings offer countless other benefits that are indispensable in the age of climate change. When created and maintained with ecologically attuned landscaping practices\, they can minimize flooding and storm water runoff\, shade and cool cities\, survive droughts\, and facilitate carbon storage more effectively than the landscapes dominated by turf and mulch that blanket so many of our communities. \nAndrea Berry from the Wild Seed Project will talk about the actions you can take to make your corner of the world more biodiverse and resilient to the effects of climate change. Andrea joined Wild Seed Project as the organization’s Executive Director in 2021. She also serves on the Board of Directors at Momentum Conservation and Resources for Organizing and Social Change. \nColin McKevitt\, Rachel Carson National Wildlife Refuge Biological Technician\, will address habitat management and native species planting. This includes shrubland habitats\, salt marsh field surveying and restoration\, and monitoring and managing invasive species. Colin is a key member of the Refuge team and is the manager of the Refuge native plant greenhouse. He instructs interns as well as community volunteers. \n \nCopies of the publication “Planting for Climate Resilience” will be available for sale. \nThe Louis T. Graves Memorial Public Library is located at 18 Maine Street\, Kennebunkport. For further information\, please call 967-2778 or visit our website at www.graveslibrary.org.
URL:https://graveslibrary.org/event/planting-for-climate-resilience/
LOCATION:Louis T. Graves Memorial Public Library @ 18 Maine St\, Kennebunkport\, ME 04046\, USA\, 18 Maine Street\, Kennebunkport\, ME\, 04046\, United States
CATEGORIES:General Events
GEO:43.34755;-70.469411
X-APPLE-STRUCTURED-LOCATION;VALUE=URI;X-ADDRESS=Louis T. Graves Memorial Public Library @ 18 Maine St Kennebunkport ME 04046 USA 18 Maine Street Kennebunkport ME 04046 United States;X-APPLE-RADIUS=500;X-TITLE=18 Maine Street:geo:-70.469411,43.34755
END:VEVENT
END:VCALENDAR