BEGIN:VCALENDAR
VERSION:2.0
PRODID:-//Louis T Graves Memorial Public Library - ECPv6.15.20//NONSGML v1.0//EN
CALSCALE:GREGORIAN
METHOD:PUBLISH
X-WR-CALNAME:Louis T Graves Memorial Public Library
X-ORIGINAL-URL:https://graveslibrary.org
X-WR-CALDESC:Events for Louis T Graves Memorial Public Library
REFRESH-INTERVAL;VALUE=DURATION:PT1H
X-Robots-Tag:noindex
X-PUBLISHED-TTL:PT1H
BEGIN:VTIMEZONE
TZID:America/New_York
BEGIN:DAYLIGHT
TZOFFSETFROM:-0500
TZOFFSETTO:-0400
TZNAME:EDT
DTSTART:20230312T070000
END:DAYLIGHT
BEGIN:STANDARD
TZOFFSETFROM:-0400
TZOFFSETTO:-0500
TZNAME:EST
DTSTART:20231105T060000
END:STANDARD
BEGIN:DAYLIGHT
TZOFFSETFROM:-0500
TZOFFSETTO:-0400
TZNAME:EDT
DTSTART:20240310T070000
END:DAYLIGHT
BEGIN:STANDARD
TZOFFSETFROM:-0400
TZOFFSETTO:-0500
TZNAME:EST
DTSTART:20241103T060000
END:STANDARD
BEGIN:DAYLIGHT
TZOFFSETFROM:-0500
TZOFFSETTO:-0400
TZNAME:EDT
DTSTART:20250309T070000
END:DAYLIGHT
BEGIN:STANDARD
TZOFFSETFROM:-0400
TZOFFSETTO:-0500
TZNAME:EST
DTSTART:20251102T060000
END:STANDARD
END:VTIMEZONE
BEGIN:VEVENT
DTSTART;TZID=America/New_York:20240813T130000
DTEND;TZID=America/New_York:20240813T140000
DTSTAMP:20260422T110754
CREATED:20240613T181141Z
LAST-MODIFIED:20240809T160622Z
UID:10005286-1723554000-1723557600@graveslibrary.org
SUMMARY:STUFFIE SLEEPOVER - AUGUST 13
DESCRIPTION:Stuffie Sleepover \nOn Tuesday\, August 13 @ 1:00 PM. Is your stuffed animal looking for an adventure? Come to our stuffie story time\, then leave it at the library for a sleepover. When you pick up your stuffie\, you can hear about its adventure! For ages 4 to 10 ;  limit of 14. \nFor further information\, please call 967-2778 and ask for the Junior Room. \n \n  \n  \nLouis T. Graves Memorial Public Library\, 18 Maine Street\, Kennebunkport     www.graveslibrary.org
URL:https://graveslibrary.org/event/stuffie-sleepover/
LOCATION:Louis T. Graves Memorial Public Library @ 18 Maine St\, Kennebunkport\, ME 04046\, USA\, 18 Maine Street\, Kennebunkport\, ME\, 04046\, United States
CATEGORIES:Kids And Teen Events
ORGANIZER;CN="Terri Bauld%2C Children's Librarian":MAILTO:tbbgraves@gmail.com
GEO:43.34755;-70.469411
X-APPLE-STRUCTURED-LOCATION;VALUE=URI;X-ADDRESS=Louis T. Graves Memorial Public Library @ 18 Maine St Kennebunkport ME 04046 USA 18 Maine Street Kennebunkport ME 04046 United States;X-APPLE-RADIUS=500;X-TITLE=18 Maine Street:geo:-70.469411,43.34755
END:VEVENT
END:VCALENDAR