BEGIN:VCALENDAR
VERSION:2.0
PRODID:-//Louis T Graves Memorial Public Library - ECPv6.15.20//NONSGML v1.0//EN
CALSCALE:GREGORIAN
METHOD:PUBLISH
X-ORIGINAL-URL:https://graveslibrary.org
X-WR-CALDESC:Events for Louis T Graves Memorial Public Library
REFRESH-INTERVAL;VALUE=DURATION:PT1H
X-Robots-Tag:noindex
X-PUBLISHED-TTL:PT1H
BEGIN:VTIMEZONE
TZID:America/New_York
BEGIN:DAYLIGHT
TZOFFSETFROM:-0500
TZOFFSETTO:-0400
TZNAME:EDT
DTSTART:20240310T070000
END:DAYLIGHT
BEGIN:STANDARD
TZOFFSETFROM:-0400
TZOFFSETTO:-0500
TZNAME:EST
DTSTART:20241103T060000
END:STANDARD
BEGIN:DAYLIGHT
TZOFFSETFROM:-0500
TZOFFSETTO:-0400
TZNAME:EDT
DTSTART:20250309T070000
END:DAYLIGHT
BEGIN:STANDARD
TZOFFSETFROM:-0400
TZOFFSETTO:-0500
TZNAME:EST
DTSTART:20251102T060000
END:STANDARD
BEGIN:DAYLIGHT
TZOFFSETFROM:-0500
TZOFFSETTO:-0400
TZNAME:EDT
DTSTART:20260308T070000
END:DAYLIGHT
BEGIN:STANDARD
TZOFFSETFROM:-0400
TZOFFSETTO:-0500
TZNAME:EST
DTSTART:20261101T060000
END:STANDARD
END:VTIMEZONE
BEGIN:VEVENT
DTSTART;TZID=America/New_York:20250607T090000
DTEND;TZID=America/New_York:20250607T100000
DTSTAMP:20260422T231312
CREATED:20250516T153004Z
LAST-MODIFIED:20250516T153004Z
UID:10005732-1749286800-1749290400@graveslibrary.org
SUMMARY:ON THE NIGHTSTAND - BOOK DISCUSSION GROUP
DESCRIPTION:Please join us for some coffee and conversation. This group will meet in the Dow Room. \nBring a book that is currently being read on your nightstand. During the hour\, we will share what we are reading and create a list for others to explore. We hope to see you here. \n  \n \nPlease call the Library with any questions.  (967-2778) \n 
URL:https://graveslibrary.org/event/on-the-nightstand-book-discussion-group-10/
LOCATION:Louis T. Graves Memorial Public Library @ 18 Maine St\, Kennebunkport\, ME 04046\, USA\, 18 Maine Street\, Kennebunkport\, ME\, 04046\, United States
CATEGORIES:General Events
ORGANIZER;CN="Loretta Swift%2C Library Director":MAILTO:lbsgraves@gmail.com
GEO:43.34755;-70.469411
X-APPLE-STRUCTURED-LOCATION;VALUE=URI;X-ADDRESS=Louis T. Graves Memorial Public Library @ 18 Maine St Kennebunkport ME 04046 USA 18 Maine Street Kennebunkport ME 04046 United States;X-APPLE-RADIUS=500;X-TITLE=18 Maine Street:geo:-70.469411,43.34755
END:VEVENT
BEGIN:VEVENT
DTSTART;TZID=America/New_York:20250607T100000
DTEND;TZID=America/New_York:20250607T110000
DTSTAMP:20260422T231312
CREATED:20250516T153102Z
LAST-MODIFIED:20250516T153102Z
UID:10005733-1749290400-1749294000@graveslibrary.org
SUMMARY:SUPER SATURDAY
DESCRIPTION:Spend your Saturday morning in the Junior Room at the Library! We’ll have craft to-go\, games\, puzzles\, hands-on stations\, and more! And don’t forget to try out the themed Scavenger Hunt for a chance to win a prize. \n \n  \nThe Louis T. Graves Memorial Public Library is located at 18 Maine Street\, Kennebunkport. For further information\, please call 207-967-2778 and ask for the Junior Room or visit www.graveslibrary.org.
URL:https://graveslibrary.org/event/super-saturday-12/
LOCATION:Louis T. Graves Memorial Public Library @ 18 Maine St\, Kennebunkport\, ME 04046\, USA\, 18 Maine Street\, Kennebunkport\, ME\, 04046\, United States
CATEGORIES:Kids And Teen Events
ORGANIZER;CN="Terri Bauld%2C Children's Librarian":MAILTO:tbbgraves@gmail.com
GEO:43.34755;-70.469411
X-APPLE-STRUCTURED-LOCATION;VALUE=URI;X-ADDRESS=Louis T. Graves Memorial Public Library @ 18 Maine St Kennebunkport ME 04046 USA 18 Maine Street Kennebunkport ME 04046 United States;X-APPLE-RADIUS=500;X-TITLE=18 Maine Street:geo:-70.469411,43.34755
END:VEVENT
BEGIN:VEVENT
DTSTART;TZID=America/New_York:20250607T130000
DTEND;TZID=America/New_York:20250607T140000
DTSTAMP:20260422T231312
CREATED:20250414T201337Z
LAST-MODIFIED:20250429T124428Z
UID:10005685-1749301200-1749304800@graveslibrary.org
SUMMARY:JUST HISTORY PROJECT - SATURDAY\, JUNE 7 @ 1:00 PM
DESCRIPTION:We are pleased to welcome Kennebunk resident Bill Grabin to Graves Library on Saturday\, June 7 @ 1:00 pm to give us an overview of the Just History Project Website recently launched by the Brick Store Museum.  Mr. Grabin will go through the goals of the JHP website and how to contribute to this ongoing resource. \nThe Just History Project website\, an initiative aimed at uncovering and documenting the often-overlooked histories of Black\, Indigenous\, and People of Color in Kennebunk and the surrounding towns of Wells\, Kennebunkport and Arundel\, has been launched by the Brick Store Museum. The resulting Just History Database can be found on the Museum’s website at www.brickstoremuseum.org/justhistory. The site intends to tell the stories of individuals who lived in the region before European colonization and through periods of enslavement and oppression. \nThe project will continue to expand as new information is uncovered\, continuously offering a more complete picture of the region’s past. The Museum welcomes contributions regarding individuals that could be added\, or related information.  The Database includes hundreds of people; as well as a search and index page. Additionally\, the website contains a section for research articles that complement and expand on the information included in the database. It is designed to be an educational resource for students\, researchers\, and community members alike. Work to develop the technology behind the database was supported by a grant from the Kennebunk Savings Bank Foundation and additional advisory contributions from the Museum’s community partner BBsquared. \nThe complex relationships between interconnected groups dramatically shaped this region’s past\, and continue to impact us today. Through extensive research now published in the online database\, the project has uncovered hundreds of names and stories of people whose lives were previously undocumented or forgotten. \n“When I began this project\, I did not anticipate how many stories I would uncover and how many of the early settlers of our towns would be involved. I was particularly impacted by the primary source documents that I was able to locate\,” said lead researcher Bill Grabin.  For more information about the Just History Project or to access the database\, please visit www.brickstoremuseum.org/justhistory. \nThe Louis T. Graves Memorial Public Library is located at 18 Maine Street\, Kennebunkport\, Maine.  Parking for this event is available at Consolidated School (Route 9) and the Village Fire Station (North Street).  Doors open at 12:30 pm \n  \nThe above photo is from the New Hampshire Gazette and Historical Chronicle\, appearing in the December 30\, 1774\, January 6\, 1775 and January 13\, 1775 editions.
URL:https://graveslibrary.org/event/just-history-project-saturday-june-7-100-pm/
LOCATION:Louis T. Graves Memorial Public Library @ 18 Maine St\, Kennebunkport\, ME 04046\, USA\, 18 Maine Street\, Kennebunkport\, ME\, 04046\, United States
CATEGORIES:General Events
ORGANIZER;CN="Loretta Swift%2C Library Director":MAILTO:lbsgraves@gmail.com
GEO:43.34755;-70.469411
X-APPLE-STRUCTURED-LOCATION;VALUE=URI;X-ADDRESS=Louis T. Graves Memorial Public Library @ 18 Maine St Kennebunkport ME 04046 USA 18 Maine Street Kennebunkport ME 04046 United States;X-APPLE-RADIUS=500;X-TITLE=18 Maine Street:geo:-70.469411,43.34755
END:VEVENT
END:VCALENDAR