BEGIN:VCALENDAR
VERSION:2.0
PRODID:-//Louis T Graves Memorial Public Library - ECPv6.15.20//NONSGML v1.0//EN
CALSCALE:GREGORIAN
METHOD:PUBLISH
X-WR-CALNAME:Louis T Graves Memorial Public Library
X-ORIGINAL-URL:https://graveslibrary.org
X-WR-CALDESC:Events for Louis T Graves Memorial Public Library
REFRESH-INTERVAL;VALUE=DURATION:PT1H
X-Robots-Tag:noindex
X-PUBLISHED-TTL:PT1H
BEGIN:VTIMEZONE
TZID:America/New_York
BEGIN:DAYLIGHT
TZOFFSETFROM:-0500
TZOFFSETTO:-0400
TZNAME:EDT
DTSTART:20250309T070000
END:DAYLIGHT
BEGIN:STANDARD
TZOFFSETFROM:-0400
TZOFFSETTO:-0500
TZNAME:EST
DTSTART:20251102T060000
END:STANDARD
BEGIN:DAYLIGHT
TZOFFSETFROM:-0500
TZOFFSETTO:-0400
TZNAME:EDT
DTSTART:20260308T070000
END:DAYLIGHT
BEGIN:STANDARD
TZOFFSETFROM:-0400
TZOFFSETTO:-0500
TZNAME:EST
DTSTART:20261101T060000
END:STANDARD
BEGIN:DAYLIGHT
TZOFFSETFROM:-0500
TZOFFSETTO:-0400
TZNAME:EDT
DTSTART:20270314T070000
END:DAYLIGHT
BEGIN:STANDARD
TZOFFSETFROM:-0400
TZOFFSETTO:-0500
TZNAME:EST
DTSTART:20271107T060000
END:STANDARD
END:VTIMEZONE
BEGIN:VEVENT
DTSTART;TZID=America/New_York:20260113T140000
DTEND;TZID=America/New_York:20260113T163000
DTSTAMP:20260423T045221
CREATED:20240712T135346Z
LAST-MODIFIED:20260121T205010Z
UID:10006039-1768312800-1768321800@graveslibrary.org
SUMMARY:CHESS CLUB
DESCRIPTION:Calling all Chess players! Bring your own board or use one of ours – Tuesdays\, from 2:00 to 4:30 PM in the Dow Room. We hope to get some great matches going and help each other learn this great game. All levels of play are welcome. \n \nThe Louis T. Graves Memorial Public Library is located at 18 Maine Street\, Kennebunkport. \n  \nFor further information\, please call 207-967-2778 or visit www.graveslibrary.org.
URL:https://graveslibrary.org/event/chess-club/2026-01-13/
LOCATION:Louis T. Graves Memorial Public Library @ 18 Maine St\, Kennebunkport\, ME 04046\, USA\, 18 Maine Street\, Kennebunkport\, ME\, 04046\, United States
CATEGORIES:General Events
GEO:43.34755;-70.469411
X-APPLE-STRUCTURED-LOCATION;VALUE=URI;X-ADDRESS=Louis T. Graves Memorial Public Library @ 18 Maine St Kennebunkport ME 04046 USA 18 Maine Street Kennebunkport ME 04046 United States;X-APPLE-RADIUS=500;X-TITLE=18 Maine Street:geo:-70.469411,43.34755
END:VEVENT
BEGIN:VEVENT
DTSTART;TZID=America/New_York:20260113T170000
DTEND;TZID=America/New_York:20260113T180000
DTSTAMP:20260423T045221
CREATED:20251216T201245Z
LAST-MODIFIED:20260107T171237Z
UID:10006030-1768323600-1768327200@graveslibrary.org
SUMMARY:LIBRARY ASSOCIATION – ANNUAL MEETING
DESCRIPTION:Please join us for the Library Association Annual Meeting of the Louis T. Graves Memorial Public Library Association on Tuesday\, January 13\, at 5:00 p.m. You will hear reports from the President\, the Library Director\, the Nominating Chair\, and the Treasurer.  New board members will be voted in\, along with Bylaw changes and updates\, and a reception will immediately follow. \n \nFMI 207-967-2778 \n  \n 
URL:https://graveslibrary.org/event/library-association-annual-meeting/
LOCATION:Louis T. Graves Memorial Public Library @ 18 Maine St\, Kennebunkport\, ME 04046\, USA\, 18 Maine Street\, Kennebunkport\, ME\, 04046\, United States
CATEGORIES:General Events
ATTACH;FMTTYPE=image/jpeg:https://graveslibrary.org/wp-content/uploads/2017/10/slider18.jpg
ORGANIZER;CN="Loretta Swift%2C Library Director":MAILTO:lbsgraves@gmail.com
GEO:43.34755;-70.469411
X-APPLE-STRUCTURED-LOCATION;VALUE=URI;X-ADDRESS=Louis T. Graves Memorial Public Library @ 18 Maine St Kennebunkport ME 04046 USA 18 Maine Street Kennebunkport ME 04046 United States;X-APPLE-RADIUS=500;X-TITLE=18 Maine Street:geo:-70.469411,43.34755
END:VEVENT
END:VCALENDAR