BEGIN:VCALENDAR
VERSION:2.0
PRODID:-//Louis T Graves Memorial Public Library - ECPv6.15.20//NONSGML v1.0//EN
CALSCALE:GREGORIAN
METHOD:PUBLISH
X-WR-CALNAME:Louis T Graves Memorial Public Library
X-ORIGINAL-URL:https://graveslibrary.org
X-WR-CALDESC:Events for Louis T Graves Memorial Public Library
REFRESH-INTERVAL;VALUE=DURATION:PT1H
X-Robots-Tag:noindex
X-PUBLISHED-TTL:PT1H
BEGIN:VTIMEZONE
TZID:America/New_York
BEGIN:DAYLIGHT
TZOFFSETFROM:-0500
TZOFFSETTO:-0400
TZNAME:EDT
DTSTART:20230312T070000
END:DAYLIGHT
BEGIN:STANDARD
TZOFFSETFROM:-0400
TZOFFSETTO:-0500
TZNAME:EST
DTSTART:20231105T060000
END:STANDARD
BEGIN:DAYLIGHT
TZOFFSETFROM:-0500
TZOFFSETTO:-0400
TZNAME:EDT
DTSTART:20240310T070000
END:DAYLIGHT
BEGIN:STANDARD
TZOFFSETFROM:-0400
TZOFFSETTO:-0500
TZNAME:EST
DTSTART:20241103T060000
END:STANDARD
BEGIN:DAYLIGHT
TZOFFSETFROM:-0500
TZOFFSETTO:-0400
TZNAME:EDT
DTSTART:20250309T070000
END:DAYLIGHT
BEGIN:STANDARD
TZOFFSETFROM:-0400
TZOFFSETTO:-0500
TZNAME:EST
DTSTART:20251102T060000
END:STANDARD
END:VTIMEZONE
BEGIN:VEVENT
DTSTART;TZID=America/New_York:20240808T180000
DTEND;TZID=America/New_York:20240808T193000
DTSTAMP:20260422T234215
CREATED:20240430T231958Z
LAST-MODIFIED:20240430T231958Z
UID:10005181-1723140000-1723145400@graveslibrary.org
SUMMARY:AN EVENING WITH AUTHOR (AND PROFESSOR) PETER ORNER - AUGUST 8 @ 6:00 PM
DESCRIPTION:It is a great honor to welcome Vermont-Based Author (and Dartmouth Professor) Peter Orner to the Louis T. Graves Memorial Public Library on Thursday August 8 at 6:00 pm. \nMr. Orner will be here for a special tribute to help us honor and celebrate our dear friend – Thomas Staley\, who died in 2022.  Dr. Staley\, the Director of the Harry Ransom Center in Austin\, Texas\, was well known for acquiring the papers of a host of literary lions (James Joyce\, F. Scott Fitzgerald)\, and of Woodward and Bernstein to boot.  A special reception with light refreshments will follow the discussion. \n \n  \nChicago-born Peter Orner is the author of two novels published by Little\, Brown: The second coming of Mavala Shikongo and Love and Shame and Love\, and three story collections:  Esther Stories\, Last car over the Sagamore Bridge\, and Maggie Brown & Others. Peter’s essay collection/memoir\, Am I alone here?: Notes on Reading to Live and Living to Read was a finalist for the National Book Critics Circle Award. \nPeter’s fiction and non-fiction has appeared in the New York Times\, the Atlantic Monthly\, Granta\, The Paris Review\, The New Yorker\, McSweeney’s\, The Southern Review\, Ploughshares and many other publications. Stories have been anthologized in Best American Stories and twice received a Pushcart Prize. Peter has been awarded the Rome Prize from the American Academy of Arts and Letters and the American Academy in Rome\, a Guggenheim Fellowship\, and a two-year Lannan Foundation Literary Fellowship. \nHe’s a graduate of the University of Michigan\, Northeastern University School of Law\, and the University of Iowa Writers’ Workshop. Peter is also a former member of the Bolinas\, California Volunteer Fire Department in Bolinas\, California and current member of the Norwich Fire Department\, Norwich\, Vermont. Peter holds the Professorship of English and Creative Writing at Dartmouth College\, and lives with his family in Norwich. \nCopies of the book\, Am I alone here? will be for sale and signing after the event. \nWe want to thank the family of Paul Mahoney for sponsoring this very special tribute to Dr. Tom Staley.  For more information\, please call 967-2778.  The Library is located at 18 Maine Street\, Kennebunkport\, Maine.  Parking is available at Consolidated School\, 25 School Street\, Maine Street\, or the Village Fire Station Lot\, North Street. \n 
URL:https://graveslibrary.org/event/an-evening-with-author-and-professor-peter-orner-august-8-600-pm/
LOCATION:Louis T. Graves Memorial Public Library @ 18 S Main St\, Kennebunkport\, ME 04046\, USA\, United States
CATEGORIES:General Events,News
ORGANIZER;CN="Loretta Swift%2C Library Director":MAILTO:lbsgraves@gmail.com
GEO:43.34755;-70.469411
END:VEVENT
END:VCALENDAR