BEGIN:VCALENDAR
VERSION:2.0
PRODID:-//Louis T Graves Memorial Public Library - ECPv6.15.20//NONSGML v1.0//EN
CALSCALE:GREGORIAN
METHOD:PUBLISH
X-ORIGINAL-URL:https://graveslibrary.org
X-WR-CALDESC:Events for Louis T Graves Memorial Public Library
REFRESH-INTERVAL;VALUE=DURATION:PT1H
X-Robots-Tag:noindex
X-PUBLISHED-TTL:PT1H
BEGIN:VTIMEZONE
TZID:America/New_York
BEGIN:DAYLIGHT
TZOFFSETFROM:-0500
TZOFFSETTO:-0400
TZNAME:EDT
DTSTART:20240310T070000
END:DAYLIGHT
BEGIN:STANDARD
TZOFFSETFROM:-0400
TZOFFSETTO:-0500
TZNAME:EST
DTSTART:20241103T060000
END:STANDARD
BEGIN:DAYLIGHT
TZOFFSETFROM:-0500
TZOFFSETTO:-0400
TZNAME:EDT
DTSTART:20250309T070000
END:DAYLIGHT
BEGIN:STANDARD
TZOFFSETFROM:-0400
TZOFFSETTO:-0500
TZNAME:EST
DTSTART:20251102T060000
END:STANDARD
BEGIN:DAYLIGHT
TZOFFSETFROM:-0500
TZOFFSETTO:-0400
TZNAME:EDT
DTSTART:20260308T070000
END:DAYLIGHT
BEGIN:STANDARD
TZOFFSETFROM:-0400
TZOFFSETTO:-0500
TZNAME:EST
DTSTART:20261101T060000
END:STANDARD
END:VTIMEZONE
BEGIN:VEVENT
DTSTART;TZID=America/New_York:20250313T094500
DTEND;TZID=America/New_York:20250313T110000
DTSTAMP:20260423T110325
CREATED:20250124T210558Z
LAST-MODIFIED:20250124T210558Z
UID:10005610-1741859100-1741863600@graveslibrary.org
SUMMARY:MORNING BOOK GROUP
DESCRIPTION:Morning Book Group \nIn March\, the group will be discussing Landscape of a Marriage by Gail Ward Olmsted. This group meets on the second Thursday of every month at 9:45 in the Dow Room. New members are always welcome. For further information\, please call 967-2778.  \n  \n \nLouis T. Graves Memorial Public Library\, 18 Maine Street\, Kennebunkport  www.graveslibrary.org.
URL:https://graveslibrary.org/event/morning-book-group-12/
LOCATION:Louis T. Graves Memorial Public Library @ 18 Maine St\, Kennebunkport\, ME 04046\, USA\, 18 Maine Street\, Kennebunkport\, ME\, 04046\, United States
CATEGORIES:General Events
ORGANIZER;CN="Loretta Swift%2C Library Director":MAILTO:lbsgraves@gmail.com
GEO:43.34755;-70.469411
X-APPLE-STRUCTURED-LOCATION;VALUE=URI;X-ADDRESS=Louis T. Graves Memorial Public Library @ 18 Maine St Kennebunkport ME 04046 USA 18 Maine Street Kennebunkport ME 04046 United States;X-APPLE-RADIUS=500;X-TITLE=18 Maine Street:geo:-70.469411,43.34755
END:VEVENT
BEGIN:VEVENT
DTSTART;TZID=America/New_York:20250313T173000
DTEND;TZID=America/New_York:20250313T183000
DTSTAMP:20260423T110325
CREATED:20240313T152450Z
LAST-MODIFIED:20250214T145842Z
UID:10005078-1741887000-1741890600@graveslibrary.org
SUMMARY:MARCH WINE ON-LINE WITH MAINE & VINE AND WINE HOUSE ON MAIN
DESCRIPTION:Join us on Thursday\, March 13\, at 5:30 PM for a fun hour of tasting\, information\, and trivia right on Zoom. Our two experts\, Lani Dietz and Betsy Ross will be on hand to guide us through the program. Please call the Library at 967-2778 to be added to the Zoom List! Stop by Maine & Vine or the Wine House on Main to pick up your wine prior to the event. \nThe best part is you don’t have to worry about driving! \n 
URL:https://graveslibrary.org/event/march-wine-on-line-with-maine-vine-and-wine-house-on-main/
LOCATION:Louis T. Graves Memorial Public Library @ 18 Maine St\, Kennebunkport\, ME 04046\, USA\, 18 Maine Street\, Kennebunkport\, ME\, 04046\, United States
CATEGORIES:General Events
ORGANIZER;CN="Loretta Swift%2C Library Director":MAILTO:lbsgraves@gmail.com
GEO:43.34755;-70.469411
X-APPLE-STRUCTURED-LOCATION;VALUE=URI;X-ADDRESS=Louis T. Graves Memorial Public Library @ 18 Maine St Kennebunkport ME 04046 USA 18 Maine Street Kennebunkport ME 04046 United States;X-APPLE-RADIUS=500;X-TITLE=18 Maine Street:geo:-70.469411,43.34755
END:VEVENT
END:VCALENDAR