BEGIN:VCALENDAR
VERSION:2.0
PRODID:-//Louis T Graves Memorial Public Library - ECPv6.15.20//NONSGML v1.0//EN
CALSCALE:GREGORIAN
METHOD:PUBLISH
X-WR-CALNAME:Louis T Graves Memorial Public Library
X-ORIGINAL-URL:https://graveslibrary.org
X-WR-CALDESC:Events for Louis T Graves Memorial Public Library
REFRESH-INTERVAL;VALUE=DURATION:PT1H
X-Robots-Tag:noindex
X-PUBLISHED-TTL:PT1H
BEGIN:VTIMEZONE
TZID:America/New_York
BEGIN:DAYLIGHT
TZOFFSETFROM:-0500
TZOFFSETTO:-0400
TZNAME:EDT
DTSTART:20250309T070000
END:DAYLIGHT
BEGIN:STANDARD
TZOFFSETFROM:-0400
TZOFFSETTO:-0500
TZNAME:EST
DTSTART:20251102T060000
END:STANDARD
BEGIN:DAYLIGHT
TZOFFSETFROM:-0500
TZOFFSETTO:-0400
TZNAME:EDT
DTSTART:20260308T070000
END:DAYLIGHT
BEGIN:STANDARD
TZOFFSETFROM:-0400
TZOFFSETTO:-0500
TZNAME:EST
DTSTART:20261101T060000
END:STANDARD
BEGIN:DAYLIGHT
TZOFFSETFROM:-0500
TZOFFSETTO:-0400
TZNAME:EDT
DTSTART:20270314T070000
END:DAYLIGHT
BEGIN:STANDARD
TZOFFSETFROM:-0400
TZOFFSETTO:-0500
TZNAME:EST
DTSTART:20271107T060000
END:STANDARD
END:VTIMEZONE
BEGIN:VEVENT
DTSTART;TZID=America/New_York:20260421T140000
DTEND;TZID=America/New_York:20260421T163000
DTSTAMP:20260420T204500
CREATED:20240712T135346Z
LAST-MODIFIED:20260121T205010Z
UID:10006134-1776780000-1776789000@graveslibrary.org
SUMMARY:CHESS CLUB
DESCRIPTION:Calling all Chess players! Bring your own board or use one of ours – Tuesdays\, from 2:00 to 4:30 PM in the Dow Room. We hope to get some great matches going and help each other learn this great game. All levels of play are welcome. \n \nThe Louis T. Graves Memorial Public Library is located at 18 Maine Street\, Kennebunkport. \n  \nFor further information\, please call 207-967-2778 or visit www.graveslibrary.org.
URL:https://graveslibrary.org/event/chess-club/2026-04-21/
LOCATION:Louis T. Graves Memorial Public Library @ 18 Maine St\, Kennebunkport\, ME 04046\, USA\, 18 Maine Street\, Kennebunkport\, ME\, 04046\, United States
CATEGORIES:General Events
GEO:43.34755;-70.469411
X-APPLE-STRUCTURED-LOCATION;VALUE=URI;X-ADDRESS=Louis T. Graves Memorial Public Library @ 18 Maine St Kennebunkport ME 04046 USA 18 Maine Street Kennebunkport ME 04046 United States;X-APPLE-RADIUS=500;X-TITLE=18 Maine Street:geo:-70.469411,43.34755
END:VEVENT
BEGIN:VEVENT
DTSTART;TZID=America/New_York:20260422T130000
DTEND;TZID=America/New_York:20260422T150000
DTSTAMP:20260420T204500
CREATED:20250819T145408Z
LAST-MODIFIED:20260121T205507Z
UID:10006147-1776862800-1776870000@graveslibrary.org
SUMMARY:PORT KNITTERS
DESCRIPTION:Port Knitters meet on Wednesdays from 1:00 to 3:00 to sit and knit. Members are encouraged to bring any current projects and supplies. This is not a learn-to-knit class. \n \nThe Louis T. Graves Memorial Public Library is located at 18 Maine Street\, Kennebunkport. For further information\, please call 207-967-2778 or visit our website at www.graveslibrary.org.
URL:https://graveslibrary.org/event/port-knitters/2026-04-22/
LOCATION:Louis T. Graves Memorial Public Library @ 18 Maine St\, Kennebunkport\, ME 04046\, USA\, 18 Maine Street\, Kennebunkport\, ME\, 04046\, United States
CATEGORIES:General Events
GEO:43.34755;-70.469411
X-APPLE-STRUCTURED-LOCATION;VALUE=URI;X-ADDRESS=Louis T. Graves Memorial Public Library @ 18 Maine St Kennebunkport ME 04046 USA 18 Maine Street Kennebunkport ME 04046 United States;X-APPLE-RADIUS=500;X-TITLE=18 Maine Street:geo:-70.469411,43.34755
END:VEVENT
BEGIN:VEVENT
DTSTART;TZID=America/New_York:20260423T140000
DTEND;TZID=America/New_York:20260423T160000
DTSTAMP:20260420T204500
CREATED:20260115T161042Z
LAST-MODIFIED:20260219T200459Z
UID:10006173-1776952800-1776960000@graveslibrary.org
SUMMARY:BOARD GAMES!
DESCRIPTION:Board Games! Come join us every Thursday afternoon to play! Board games\, including Scrabble\, Backgammon\, cards\, crosswords and more will be available in the Dow Room. Come have a coffee or cocoa and some fun. \n \nThe Louis T. Graves Memorial Public Library is located at 18 Maine Street\, Kennebunkport. For further information\, please call 207-967-2778 or visit our website at www.graveslibrary.org.
URL:https://graveslibrary.org/event/board-games/2026-04-23/
LOCATION:Louis T. Graves Memorial Public Library @ 18 Maine St\, Kennebunkport\, ME 04046\, USA\, 18 Maine Street\, Kennebunkport\, ME\, 04046\, United States
CATEGORIES:General Events
GEO:43.34755;-70.469411
X-APPLE-STRUCTURED-LOCATION;VALUE=URI;X-ADDRESS=Louis T. Graves Memorial Public Library @ 18 Maine St Kennebunkport ME 04046 USA 18 Maine Street Kennebunkport ME 04046 United States;X-APPLE-RADIUS=500;X-TITLE=18 Maine Street:geo:-70.469411,43.34755
END:VEVENT
BEGIN:VEVENT
DTSTART;TZID=America/New_York:20260427T093000
DTEND;TZID=America/New_York:20260427T170000
DTSTAMP:20260420T204500
CREATED:20250819T143909Z
LAST-MODIFIED:20260121T204447Z
UID:10006123-1777282200-1777309200@graveslibrary.org
SUMMARY:THE BOOK CELLAR - USED BOOK STORE - Open Library Hours Monday - Saturday
DESCRIPTION:Visit the Book Cellar! There are thousands of books to choose from during Library hours. We also have notecards\, special books\, ball caps\, special gift books\, coffee mugs\, bookmarks\, and more. Cookbooks\, sports\, religion\, fiction\, biography\, history\, children’s\, classics\, health\, and more! Looking for the perfect gift idea? Purchase a gift certificate for the book sale! Open during library hours Monday-Friday 9:30-5:00; Saturdays\, 9:30-12:30. \n \n  \n  \n  \nThe Louis T. Graves Memorial Public Library is located at 18 Maine Street\, Kennebunkport\, and is open Monday-Friday 9:30-5:00; Saturdays\, 9:30-12:30. For further information\, please call 207-967-2778 or visit our website at www.graveslibrary.org.
URL:https://graveslibrary.org/event/the-book-cellar-used-book-store/2026-04-27/
LOCATION:Louis T. Graves Memorial Public Library @ 18 Maine St\, Kennebunkport\, ME 04046\, USA\, 18 Maine Street\, Kennebunkport\, ME\, 04046\, United States
CATEGORIES:General Events
GEO:43.34755;-70.469411
X-APPLE-STRUCTURED-LOCATION;VALUE=URI;X-ADDRESS=Louis T. Graves Memorial Public Library @ 18 Maine St Kennebunkport ME 04046 USA 18 Maine Street Kennebunkport ME 04046 United States;X-APPLE-RADIUS=500;X-TITLE=18 Maine Street:geo:-70.469411,43.34755
END:VEVENT
BEGIN:VEVENT
DTSTART;TZID=America/New_York:20260428T140000
DTEND;TZID=America/New_York:20260428T163000
DTSTAMP:20260420T204500
CREATED:20240712T135346Z
LAST-MODIFIED:20260121T205010Z
UID:10006135-1777384800-1777393800@graveslibrary.org
SUMMARY:CHESS CLUB
DESCRIPTION:Calling all Chess players! Bring your own board or use one of ours – Tuesdays\, from 2:00 to 4:30 PM in the Dow Room. We hope to get some great matches going and help each other learn this great game. All levels of play are welcome. \n \nThe Louis T. Graves Memorial Public Library is located at 18 Maine Street\, Kennebunkport. \n  \nFor further information\, please call 207-967-2778 or visit www.graveslibrary.org.
URL:https://graveslibrary.org/event/chess-club/2026-04-28/
LOCATION:Louis T. Graves Memorial Public Library @ 18 Maine St\, Kennebunkport\, ME 04046\, USA\, 18 Maine Street\, Kennebunkport\, ME\, 04046\, United States
CATEGORIES:General Events
GEO:43.34755;-70.469411
X-APPLE-STRUCTURED-LOCATION;VALUE=URI;X-ADDRESS=Louis T. Graves Memorial Public Library @ 18 Maine St Kennebunkport ME 04046 USA 18 Maine Street Kennebunkport ME 04046 United States;X-APPLE-RADIUS=500;X-TITLE=18 Maine Street:geo:-70.469411,43.34755
END:VEVENT
BEGIN:VEVENT
DTSTART;TZID=America/New_York:20260429T130000
DTEND;TZID=America/New_York:20260429T150000
DTSTAMP:20260420T204500
CREATED:20250819T145408Z
LAST-MODIFIED:20260121T205507Z
UID:10006148-1777467600-1777474800@graveslibrary.org
SUMMARY:PORT KNITTERS
DESCRIPTION:Port Knitters meet on Wednesdays from 1:00 to 3:00 to sit and knit. Members are encouraged to bring any current projects and supplies. This is not a learn-to-knit class. \n \nThe Louis T. Graves Memorial Public Library is located at 18 Maine Street\, Kennebunkport. For further information\, please call 207-967-2778 or visit our website at www.graveslibrary.org.
URL:https://graveslibrary.org/event/port-knitters/2026-04-29/
LOCATION:Louis T. Graves Memorial Public Library @ 18 Maine St\, Kennebunkport\, ME 04046\, USA\, 18 Maine Street\, Kennebunkport\, ME\, 04046\, United States
CATEGORIES:General Events
GEO:43.34755;-70.469411
X-APPLE-STRUCTURED-LOCATION;VALUE=URI;X-ADDRESS=Louis T. Graves Memorial Public Library @ 18 Maine St Kennebunkport ME 04046 USA 18 Maine Street Kennebunkport ME 04046 United States;X-APPLE-RADIUS=500;X-TITLE=18 Maine Street:geo:-70.469411,43.34755
END:VEVENT
BEGIN:VEVENT
DTSTART;TZID=America/New_York:20260430T140000
DTEND;TZID=America/New_York:20260430T160000
DTSTAMP:20260420T204500
CREATED:20260115T161042Z
LAST-MODIFIED:20260219T200459Z
UID:10006174-1777557600-1777564800@graveslibrary.org
SUMMARY:BOARD GAMES!
DESCRIPTION:Board Games! Come join us every Thursday afternoon to play! Board games\, including Scrabble\, Backgammon\, cards\, crosswords and more will be available in the Dow Room. Come have a coffee or cocoa and some fun. \n \nThe Louis T. Graves Memorial Public Library is located at 18 Maine Street\, Kennebunkport. For further information\, please call 207-967-2778 or visit our website at www.graveslibrary.org.
URL:https://graveslibrary.org/event/board-games/2026-04-30/
LOCATION:Louis T. Graves Memorial Public Library @ 18 Maine St\, Kennebunkport\, ME 04046\, USA\, 18 Maine Street\, Kennebunkport\, ME\, 04046\, United States
CATEGORIES:General Events
GEO:43.34755;-70.469411
X-APPLE-STRUCTURED-LOCATION;VALUE=URI;X-ADDRESS=Louis T. Graves Memorial Public Library @ 18 Maine St Kennebunkport ME 04046 USA 18 Maine Street Kennebunkport ME 04046 United States;X-APPLE-RADIUS=500;X-TITLE=18 Maine Street:geo:-70.469411,43.34755
END:VEVENT
BEGIN:VEVENT
DTSTART;TZID=America/New_York:20260430T170000
DTEND;TZID=America/New_York:20260430T180000
DTSTAMP:20260420T204500
CREATED:20260121T212408Z
LAST-MODIFIED:20260316T201123Z
UID:10006187-1777568400-1777572000@graveslibrary.org
SUMMARY:EVENING BOOK GROUP
DESCRIPTION:Evening Book Group \nFor April\, the group is reading “Finding Grace” by Loretta Rothschild. \n \n  \nPlease give us a call at 207-967-2778 for more information on this event. \n  \n  \n  \n\n  \n 
URL:https://graveslibrary.org/event/evening-book-group-3/
LOCATION:Louis T. Graves Memorial Public Library @ 18 Maine St\, Kennebunkport\, ME 04046\, USA\, 18 Maine Street\, Kennebunkport\, ME\, 04046\, United States
CATEGORIES:General Events
ORGANIZER;CN="Loretta Swift%2C Library Director":MAILTO:lbsgraves@gmail.com
GEO:43.34755;-70.469411
X-APPLE-STRUCTURED-LOCATION;VALUE=URI;X-ADDRESS=Louis T. Graves Memorial Public Library @ 18 Maine St Kennebunkport ME 04046 USA 18 Maine Street Kennebunkport ME 04046 United States;X-APPLE-RADIUS=500;X-TITLE=18 Maine Street:geo:-70.469411,43.34755
END:VEVENT
BEGIN:VEVENT
DTSTART;TZID=America/New_York:20260430T181500
DTEND;TZID=America/New_York:20260430T200000
DTSTAMP:20260420T204500
CREATED:20260121T211641Z
LAST-MODIFIED:20260316T201308Z
UID:10006183-1777572900-1777579200@graveslibrary.org
SUMMARY:MOVIE NIGHT - April 30
DESCRIPTION:We hope you will join us in the Community Room for our movie night! Bring your family and friends\, it’s always a fun time. Enjoy beverages and popcorn. Let us know if you have any questions at 207-967-2778. \nIf you would like to know the movie title in advance\, please call 207-967-2778 to be added to our movie club list. \n \n  \n  \n  \n  \n  \n  \n  \n  \n 
URL:https://graveslibrary.org/event/movie-night-4/
LOCATION:Louis T. Graves Memorial Public Library @ 18 Maine St\, Kennebunkport\, ME 04046\, USA\, 18 Maine Street\, Kennebunkport\, ME\, 04046\, United States
CATEGORIES:General Events
ORGANIZER;CN="Loretta Swift%2C Library Director":MAILTO:lbsgraves@gmail.com
GEO:43.34755;-70.469411
X-APPLE-STRUCTURED-LOCATION;VALUE=URI;X-ADDRESS=Louis T. Graves Memorial Public Library @ 18 Maine St Kennebunkport ME 04046 USA 18 Maine Street Kennebunkport ME 04046 United States;X-APPLE-RADIUS=500;X-TITLE=18 Maine Street:geo:-70.469411,43.34755
END:VEVENT
END:VCALENDAR