BEGIN:VCALENDAR
VERSION:2.0
PRODID:-//Louis T Graves Memorial Public Library - ECPv6.15.20//NONSGML v1.0//EN
CALSCALE:GREGORIAN
METHOD:PUBLISH
X-ORIGINAL-URL:https://graveslibrary.org
X-WR-CALDESC:Events for Louis T Graves Memorial Public Library
REFRESH-INTERVAL;VALUE=DURATION:PT1H
X-Robots-Tag:noindex
X-PUBLISHED-TTL:PT1H
BEGIN:VTIMEZONE
TZID:America/New_York
BEGIN:DAYLIGHT
TZOFFSETFROM:-0500
TZOFFSETTO:-0400
TZNAME:EDT
DTSTART:20220313T070000
END:DAYLIGHT
BEGIN:STANDARD
TZOFFSETFROM:-0400
TZOFFSETTO:-0500
TZNAME:EST
DTSTART:20221106T060000
END:STANDARD
BEGIN:DAYLIGHT
TZOFFSETFROM:-0500
TZOFFSETTO:-0400
TZNAME:EDT
DTSTART:20230312T070000
END:DAYLIGHT
BEGIN:STANDARD
TZOFFSETFROM:-0400
TZOFFSETTO:-0500
TZNAME:EST
DTSTART:20231105T060000
END:STANDARD
BEGIN:DAYLIGHT
TZOFFSETFROM:-0500
TZOFFSETTO:-0400
TZNAME:EDT
DTSTART:20240310T070000
END:DAYLIGHT
BEGIN:STANDARD
TZOFFSETFROM:-0400
TZOFFSETTO:-0500
TZNAME:EST
DTSTART:20241103T060000
END:STANDARD
END:VTIMEZONE
BEGIN:VEVENT
DTSTART;TZID=America/New_York:20231204T093000
DTEND;TZID=America/New_York:20231204T170000
DTSTAMP:20260420T064606
CREATED:20231116T180013Z
LAST-MODIFIED:20231120T193332Z
UID:10004981-1701682200-1701709200@graveslibrary.org
SUMMARY:THE COMMUNITY GOURMET CARE PACKAGES
DESCRIPTION:Community Gourmet Care Packages for Elder Community Members \nMonday\, December 4 – Friday\, December 22. The Louis T. Graves Memorial Public Library in partnership with The Community Gourmet will be collecting food items as part of the Care packages that will be distributed over the holidays. Working with local law enforcement\, Southern Maine Agency on Aging\, The Center\, food pantries\, and local churches\, these care packages are distributed at no cost to the people receiving them. The Library will also have a card-making station where folks can make custom holiday cards to include in the packages. These packages contain items such as the following: small meals like tuna fish\, chicken packets\, soup and crackers\, macaroni and cheese cups\, beef stew\, peanut butter and jelly packets\, oatmeal\, Carnation Instant Breakfast\, cereal\, dry milk\, Belvita cookies\, fruit bars\, Lorna Doones\, Fig Newtons. These items can be placed in the baskets that will be around the holiday tree in the children’s room upstairs at the Library from Monday\, December 4 through Friday\, December 22. Together we can help our community friends by making food available to them through the love and support of everyone. \n \n  \n  \nThe Louis T. Graves Memorial Public Library is located at 18 Maine Street\, Kennebunkport. For further information\, please call 967-2778 or visit our website at www.graveslibrary.org.
URL:https://graveslibrary.org/event/the-community-gourmet-care-packages/2023-12-04/
LOCATION:Louis T. Graves Memorial Public Library @ 18 Maine St\, Kennebunkport\, ME 04046\, USA\, 18 Maine Street\, Kennebunkport\, ME\, 04046\, United States
CATEGORIES:General Events,Kids And Teen Events
GEO:43.34755;-70.469411
X-APPLE-STRUCTURED-LOCATION;VALUE=URI;X-ADDRESS=Louis T. Graves Memorial Public Library @ 18 Maine St Kennebunkport ME 04046 USA 18 Maine Street Kennebunkport ME 04046 United States;X-APPLE-RADIUS=500;X-TITLE=18 Maine Street:geo:-70.469411,43.34755
END:VEVENT
BEGIN:VEVENT
DTSTART;TZID=America/New_York:20231206T150000
DTEND;TZID=America/New_York:20231206T170000
DTSTAMP:20260420T064606
CREATED:20231115T182038Z
LAST-MODIFIED:20231115T182038Z
UID:10004972-1701874800-1701882000@graveslibrary.org
SUMMARY:POLAR EXPRESS AFTERNOON
DESCRIPTION:Polar Express Afternoon \nFamily holiday movie\, wear your jammies\, we’ll drink cocoa\, have treats\, and a favor to take home. Wednesday\, December 6 at 3 PM. \n \n  \n  \nThe Louis T. Graves Memorial Public Library is located at 18 Maine Street\, Kennebunkport. For further information\, please call 967-2778 or visit our website at www.graveslibrary.org.
URL:https://graveslibrary.org/event/polar-express-afternoon/
LOCATION:Louis T. Graves Memorial Public Library @ 18 Maine St\, Kennebunkport\, ME 04046\, USA\, 18 Maine Street\, Kennebunkport\, ME\, 04046\, United States
CATEGORIES:General Events,Kids And Teen Events
ORGANIZER;CN="Terri Bauld%2C Children's Librarian":MAILTO:tbbgraves@gmail.com
GEO:43.34755;-70.469411
X-APPLE-STRUCTURED-LOCATION;VALUE=URI;X-ADDRESS=Louis T. Graves Memorial Public Library @ 18 Maine St Kennebunkport ME 04046 USA 18 Maine Street Kennebunkport ME 04046 United States;X-APPLE-RADIUS=500;X-TITLE=18 Maine Street:geo:-70.469411,43.34755
END:VEVENT
BEGIN:VEVENT
DTSTART;TZID=America/New_York:20231208T100000
DTEND;TZID=America/New_York:20231208T103000
DTSTAMP:20260420T064606
CREATED:20231115T183546Z
LAST-MODIFIED:20231115T184237Z
UID:10004975-1702029600-1702031400@graveslibrary.org
SUMMARY:COOKIE DECORATING STORY TIME
DESCRIPTION:Cookie Decorating Story Time \nLet’s decorate a holiday cookie. Friday\, December 8 at 10 AM. All supplies provided. \n \nThe Louis T. Graves Memorial Public Library is located at 18 Maine Street\, Kennebunkport. For further information\, please call 967-2778 or visit our website at www.graveslibrary.org.
URL:https://graveslibrary.org/event/cookie-decorating-story-time/
LOCATION:Louis T. Graves Memorial Public Library @ 18 Maine St\, Kennebunkport\, ME 04046\, USA\, 18 Maine Street\, Kennebunkport\, ME\, 04046\, United States
CATEGORIES:General Events,Kids And Teen Events
ORGANIZER;CN="Terri Bauld%2C Children's Librarian":MAILTO:tbbgraves@gmail.com
GEO:43.34755;-70.469411
X-APPLE-STRUCTURED-LOCATION;VALUE=URI;X-ADDRESS=Louis T. Graves Memorial Public Library @ 18 Maine St Kennebunkport ME 04046 USA 18 Maine Street Kennebunkport ME 04046 United States;X-APPLE-RADIUS=500;X-TITLE=18 Maine Street:geo:-70.469411,43.34755
END:VEVENT
BEGIN:VEVENT
DTSTART;TZID=America/New_York:20231209T100000
DTEND;TZID=America/New_York:20231209T113000
DTSTAMP:20260420T064606
CREATED:20231108T224527Z
LAST-MODIFIED:20231120T184237Z
UID:10004962-1702116000-1702121400@graveslibrary.org
SUMMARY:POP UP BOOK SIGNING - JENNA BUSH HAGER AND BARBARA BUSH - DECEMBER 9 @ 10:00 AM
DESCRIPTION:We hope you will join us on Saturday\, December 9 @ 10:00 am for a very special event.  Twin sisters Jenna Bush Hager and Barbara Pierce Bush will be here at the Louis T. Graves Memorial Public Library\, 18 Maine Street\, Kennebunkport\, Maine and home of the “Book Cellar” to sign copies of their new book  Love Comes First. \nThis newest book is a celebration of growing families. In the story\, two sisters wish upon a star for a sibling. Not only does their wish come true\, but they also get a new baby cousin. Although the wish doesn’t turn out exactly the way the sisters imagined\, they soon learn that love conquers all. \n \nThis program is free and open to the public.  Copies of the book will be for sale and signing.   Pre-Registration is Required.  Please call (207) 967-2778 to be added to the list.    Parking available at the Village Fire Station (North Street) and Consolidated School (Route 9). \nJenna Bush Hager: \nAn American news personality\, author\, and journalist. She is the co-host of Today with Hoda & Jenna\, the fourth hour of NBC’s morning news program Today.   After her father’s presidency\, Hager became an author\, an editor-at-large for Southern Living magazine\, and a television personality on NBC\, being featured most prominently as a member of The Today Show as a correspondent\, contributor and co-host. \nBarbara Pierce Bush: \nAn American activist. She is Vice President\, Social Impact for the NBA and co-founded the nonprofit Global Health Corps\, an organization that has mobilized more than one thousand young leaders to solve some of the world’s biggest global health challenges. \n\n  \nThe fraternal twins are the daughters of the 43rd U.S. President George W. Bush and former First Lady Laura Bush. They are also the granddaughters of the 41st U.S. President George H. W. Bush and former First Lady Barbara Bush\, great-granddaughters of former U.S. Senator Prescott Bush\, nieces of former Florida Governor Jeb Bush and first cousins of former Land Commissioner of Texas\, George P. Bush. \n 
URL:https://graveslibrary.org/event/pop-up-book-signing-jenna-bush-hager-and-barbara-bush-december-9-1000-am/
LOCATION:Louis T. Graves Memorial Public Library @ 18 Maine St\, Kennebunkport\, ME 04046\, USA\, 18 Maine Street\, Kennebunkport\, ME\, 04046\, United States
CATEGORIES:General Events,Kids And Teen Events
ORGANIZER;CN="Loretta Swift%2C Library Director":MAILTO:lbsgraves@gmail.com
GEO:43.34755;-70.469411
X-APPLE-STRUCTURED-LOCATION;VALUE=URI;X-ADDRESS=Louis T. Graves Memorial Public Library @ 18 Maine St Kennebunkport ME 04046 USA 18 Maine Street Kennebunkport ME 04046 United States;X-APPLE-RADIUS=500;X-TITLE=18 Maine Street:geo:-70.469411,43.34755
END:VEVENT
BEGIN:VEVENT
DTSTART;TZID=America/New_York:20231211T093000
DTEND;TZID=America/New_York:20231211T170000
DTSTAMP:20260420T064606
CREATED:20231116T180013Z
LAST-MODIFIED:20231120T193332Z
UID:10004982-1702287000-1702314000@graveslibrary.org
SUMMARY:THE COMMUNITY GOURMET CARE PACKAGES
DESCRIPTION:Community Gourmet Care Packages for Elder Community Members \nMonday\, December 4 – Friday\, December 22. The Louis T. Graves Memorial Public Library in partnership with The Community Gourmet will be collecting food items as part of the Care packages that will be distributed over the holidays. Working with local law enforcement\, Southern Maine Agency on Aging\, The Center\, food pantries\, and local churches\, these care packages are distributed at no cost to the people receiving them. The Library will also have a card-making station where folks can make custom holiday cards to include in the packages. These packages contain items such as the following: small meals like tuna fish\, chicken packets\, soup and crackers\, macaroni and cheese cups\, beef stew\, peanut butter and jelly packets\, oatmeal\, Carnation Instant Breakfast\, cereal\, dry milk\, Belvita cookies\, fruit bars\, Lorna Doones\, Fig Newtons. These items can be placed in the baskets that will be around the holiday tree in the children’s room upstairs at the Library from Monday\, December 4 through Friday\, December 22. Together we can help our community friends by making food available to them through the love and support of everyone. \n \n  \n  \nThe Louis T. Graves Memorial Public Library is located at 18 Maine Street\, Kennebunkport. For further information\, please call 967-2778 or visit our website at www.graveslibrary.org.
URL:https://graveslibrary.org/event/the-community-gourmet-care-packages/2023-12-11/
LOCATION:Louis T. Graves Memorial Public Library @ 18 Maine St\, Kennebunkport\, ME 04046\, USA\, 18 Maine Street\, Kennebunkport\, ME\, 04046\, United States
CATEGORIES:General Events,Kids And Teen Events
GEO:43.34755;-70.469411
X-APPLE-STRUCTURED-LOCATION;VALUE=URI;X-ADDRESS=Louis T. Graves Memorial Public Library @ 18 Maine St Kennebunkport ME 04046 USA 18 Maine Street Kennebunkport ME 04046 United States;X-APPLE-RADIUS=500;X-TITLE=18 Maine Street:geo:-70.469411,43.34755
END:VEVENT
BEGIN:VEVENT
DTSTART;TZID=America/New_York:20231215T100000
DTEND;TZID=America/New_York:20231215T103000
DTSTAMP:20260420T064606
CREATED:20231115T190356Z
LAST-MODIFIED:20231115T190356Z
UID:10004977-1702634400-1702636200@graveslibrary.org
SUMMARY:FURRY TALES
DESCRIPTION:Furry Tales Story Time Louis T. Graves Memorial Public Library\, 18 Maine Street\, Kennebunkport\, Friday\, December 15 at 10 AM. We are so excited to partner with the Animal Welfare Society of Kennebunk for a very special story time featuring animals. A coloring craft will follow. Preschoolers and their families explore the exciting world of animals with stories\, playtime\, crafts\, songs\, movement\, and plenty of animal time. Each visit is a new adventure! \n \nFor further information\, please call 967-2778 or visit our website at www.graveslibrary.org.
URL:https://graveslibrary.org/event/furry-tales-3/
LOCATION:Louis T. Graves Memorial Public Library @ 18 Maine St\, Kennebunkport\, ME 04046\, USA\, 18 Maine Street\, Kennebunkport\, ME\, 04046\, United States
CATEGORIES:Kids And Teen Events
ORGANIZER;CN="Terri Bauld%2C Children's Librarian":MAILTO:tbbgraves@gmail.com
GEO:43.34755;-70.469411
X-APPLE-STRUCTURED-LOCATION;VALUE=URI;X-ADDRESS=Louis T. Graves Memorial Public Library @ 18 Maine St Kennebunkport ME 04046 USA 18 Maine Street Kennebunkport ME 04046 United States;X-APPLE-RADIUS=500;X-TITLE=18 Maine Street:geo:-70.469411,43.34755
END:VEVENT
BEGIN:VEVENT
DTSTART;TZID=America/New_York:20231218T093000
DTEND;TZID=America/New_York:20231218T170000
DTSTAMP:20260420T064606
CREATED:20231116T180013Z
LAST-MODIFIED:20231120T193332Z
UID:10004983-1702891800-1702918800@graveslibrary.org
SUMMARY:THE COMMUNITY GOURMET CARE PACKAGES
DESCRIPTION:Community Gourmet Care Packages for Elder Community Members \nMonday\, December 4 – Friday\, December 22. The Louis T. Graves Memorial Public Library in partnership with The Community Gourmet will be collecting food items as part of the Care packages that will be distributed over the holidays. Working with local law enforcement\, Southern Maine Agency on Aging\, The Center\, food pantries\, and local churches\, these care packages are distributed at no cost to the people receiving them. The Library will also have a card-making station where folks can make custom holiday cards to include in the packages. These packages contain items such as the following: small meals like tuna fish\, chicken packets\, soup and crackers\, macaroni and cheese cups\, beef stew\, peanut butter and jelly packets\, oatmeal\, Carnation Instant Breakfast\, cereal\, dry milk\, Belvita cookies\, fruit bars\, Lorna Doones\, Fig Newtons. These items can be placed in the baskets that will be around the holiday tree in the children’s room upstairs at the Library from Monday\, December 4 through Friday\, December 22. Together we can help our community friends by making food available to them through the love and support of everyone. \n \n  \n  \nThe Louis T. Graves Memorial Public Library is located at 18 Maine Street\, Kennebunkport. For further information\, please call 967-2778 or visit our website at www.graveslibrary.org.
URL:https://graveslibrary.org/event/the-community-gourmet-care-packages/2023-12-18/
LOCATION:Louis T. Graves Memorial Public Library @ 18 Maine St\, Kennebunkport\, ME 04046\, USA\, 18 Maine Street\, Kennebunkport\, ME\, 04046\, United States
CATEGORIES:General Events,Kids And Teen Events
GEO:43.34755;-70.469411
X-APPLE-STRUCTURED-LOCATION;VALUE=URI;X-ADDRESS=Louis T. Graves Memorial Public Library @ 18 Maine St Kennebunkport ME 04046 USA 18 Maine Street Kennebunkport ME 04046 United States;X-APPLE-RADIUS=500;X-TITLE=18 Maine Street:geo:-70.469411,43.34755
END:VEVENT
BEGIN:VEVENT
DTSTART;TZID=America/New_York:20231222T140000
DTEND;TZID=America/New_York:20231222T150000
DTSTAMP:20260420T064606
CREATED:20231115T191029Z
LAST-MODIFIED:20231129T183835Z
UID:10004979-1703253600-1703257200@graveslibrary.org
SUMMARY:AWS HOLIDAY STORY TIME
DESCRIPTION:AWS Holiday Story Time \nMs. Terri will be a guest reader at the Kennebunk Animal Welfare Society holiday party\, at 46 Holland Road\, Kennebunk on Friday\, December 22 at 2 PM. \n \n  \nFor further information\, please call 967-2778 or visit our website at www.graveslibrary.org.
URL:https://graveslibrary.org/event/aws-holiday-story-time/
LOCATION:Louis T. Graves Memorial Public Library @ 18 Maine St\, Kennebunkport\, ME 04046\, USA\, 18 Maine Street\, Kennebunkport\, ME\, 04046\, United States
CATEGORIES:Kids And Teen Events
ORGANIZER;CN="Terri Bauld%2C Children's Librarian":MAILTO:tbbgraves@gmail.com
GEO:43.34755;-70.469411
X-APPLE-STRUCTURED-LOCATION;VALUE=URI;X-ADDRESS=Louis T. Graves Memorial Public Library @ 18 Maine St Kennebunkport ME 04046 USA 18 Maine Street Kennebunkport ME 04046 United States;X-APPLE-RADIUS=500;X-TITLE=18 Maine Street:geo:-70.469411,43.34755
END:VEVENT
END:VCALENDAR