BEGIN:VCALENDAR
VERSION:2.0
PRODID:-//Louis T Graves Memorial Public Library - ECPv6.15.20//NONSGML v1.0//EN
CALSCALE:GREGORIAN
METHOD:PUBLISH
X-ORIGINAL-URL:https://graveslibrary.org
X-WR-CALDESC:Events for Louis T Graves Memorial Public Library
REFRESH-INTERVAL;VALUE=DURATION:PT1H
X-Robots-Tag:noindex
X-PUBLISHED-TTL:PT1H
BEGIN:VTIMEZONE
TZID:America/New_York
BEGIN:DAYLIGHT
TZOFFSETFROM:-0500
TZOFFSETTO:-0400
TZNAME:EDT
DTSTART:20230312T070000
END:DAYLIGHT
BEGIN:STANDARD
TZOFFSETFROM:-0400
TZOFFSETTO:-0500
TZNAME:EST
DTSTART:20231105T060000
END:STANDARD
BEGIN:DAYLIGHT
TZOFFSETFROM:-0500
TZOFFSETTO:-0400
TZNAME:EDT
DTSTART:20240310T070000
END:DAYLIGHT
BEGIN:STANDARD
TZOFFSETFROM:-0400
TZOFFSETTO:-0500
TZNAME:EST
DTSTART:20241103T060000
END:STANDARD
BEGIN:DAYLIGHT
TZOFFSETFROM:-0500
TZOFFSETTO:-0400
TZNAME:EDT
DTSTART:20250309T070000
END:DAYLIGHT
BEGIN:STANDARD
TZOFFSETFROM:-0400
TZOFFSETTO:-0500
TZNAME:EST
DTSTART:20251102T060000
END:STANDARD
END:VTIMEZONE
BEGIN:VEVENT
DTSTART;TZID=America/New_York:20241205T100000
DTEND;TZID=America/New_York:20241205T160000
DTSTAMP:20260425T205458
CREATED:20240502T201746Z
LAST-MODIFIED:20241016T201209Z
UID:10005216-1733392800-1733414400@graveslibrary.org
SUMMARY:CARD MAKING STATION
DESCRIPTION:Card Making Station December 5 – 20\, 10-4:00 \nWe want to invite people of all ages to attend our card-making program\, where we will design cards to go with care packages from the Community Gourmet. This is a beautiful opportunity to show your support and positivity to those in need. During the program\, you can design and personalize cards using various materials\, such as markers\, stickers\, and stamps. These cards will be included in care packages distributed to seniors and individuals in our community. The Community Gourmet is a grass-roots effort to address food insecurity in Southern Maine. \n \n  \nThe Louis T. Graves Memorial Public Library is located at 18 Maine Street\, Kennebunkport. For further information\, please call 967-2778 or visit our website at www.graveslibrary.org.
URL:https://graveslibrary.org/event/card-making-station-2/
LOCATION:Louis T. Graves Memorial Public Library @ 18 Maine St\, Kennebunkport\, ME 04046\, USA\, 18 Maine Street\, Kennebunkport\, ME\, 04046\, United States
CATEGORIES:Kids And Teen Events
ORGANIZER;CN="Terri Bauld%2C Children's Librarian":MAILTO:tbbgraves@gmail.com
GEO:43.34755;-70.469411
X-APPLE-STRUCTURED-LOCATION;VALUE=URI;X-ADDRESS=Louis T. Graves Memorial Public Library @ 18 Maine St Kennebunkport ME 04046 USA 18 Maine Street Kennebunkport ME 04046 United States;X-APPLE-RADIUS=500;X-TITLE=18 Maine Street:geo:-70.469411,43.34755
END:VEVENT
BEGIN:VEVENT
DTSTART;TZID=America/New_York:20241205T150000
DTEND;TZID=America/New_York:20241205T160000
DTSTAMP:20260425T205458
CREATED:20241016T201637Z
LAST-MODIFIED:20241016T201637Z
UID:10005428-1733410800-1733414400@graveslibrary.org
SUMMARY:CIDER\, COOKIES & CRAFT TIME
DESCRIPTION:Cider\, Cookies & Craft Time \nDecorate an ornament for the holidays and enjoy some holiday cheer while you are here! All supplies and light refreshments will be provided. \n \nThe Louis T. Graves Memorial Public Library is located at 18 Maine Street\, Kennebunkport. For further information\, please call 967-2778 and ask for the Junior Room or visit www.graveslibrary.org.
URL:https://graveslibrary.org/event/cider-cookies-craft-time/
LOCATION:Louis T. Graves Memorial Public Library @ 18 Maine St\, Kennebunkport\, ME 04046\, USA\, 18 Maine Street\, Kennebunkport\, ME\, 04046\, United States
CATEGORIES:Kids And Teen Events
ORGANIZER;CN="Terri Bauld%2C Children's Librarian":MAILTO:tbbgraves@gmail.com
GEO:43.34755;-70.469411
X-APPLE-STRUCTURED-LOCATION;VALUE=URI;X-ADDRESS=Louis T. Graves Memorial Public Library @ 18 Maine St Kennebunkport ME 04046 USA 18 Maine Street Kennebunkport ME 04046 United States;X-APPLE-RADIUS=500;X-TITLE=18 Maine Street:geo:-70.469411,43.34755
END:VEVENT
BEGIN:VEVENT
DTSTART;TZID=America/New_York:20241206T100000
DTEND;TZID=America/New_York:20241206T103000
DTSTAMP:20260425T205458
CREATED:20241017T160501Z
LAST-MODIFIED:20241017T160501Z
UID:10005431-1733479200-1733481000@graveslibrary.org
SUMMARY:MRS. CLAUS STORY TIME
DESCRIPTION:Mrs. Claus Story Time!  \nFriday\, December 6 at 10 AM \nMrs. Claus and one of the elves will be our special guests at story time for holiday stories and songs. \n \nThe Louis T. Graves Memorial Public Library is located at 18 Maine Street\, Kennebunkport. For further information\, please call 967-2778 and ask for the Junior Room or visit www.graveslibrary.org.
URL:https://graveslibrary.org/event/mrs-claus-story-time/
LOCATION:Louis T. Graves Memorial Public Library @ 18 Maine St\, Kennebunkport\, ME 04046\, USA\, 18 Maine Street\, Kennebunkport\, ME\, 04046\, United States
CATEGORIES:General Events,Kids And Teen Events
ORGANIZER;CN="Terri Bauld%2C Children's Librarian":MAILTO:tbbgraves@gmail.com
GEO:43.34755;-70.469411
X-APPLE-STRUCTURED-LOCATION;VALUE=URI;X-ADDRESS=Louis T. Graves Memorial Public Library @ 18 Maine St Kennebunkport ME 04046 USA 18 Maine Street Kennebunkport ME 04046 United States;X-APPLE-RADIUS=500;X-TITLE=18 Maine Street:geo:-70.469411,43.34755
END:VEVENT
BEGIN:VEVENT
DTSTART;TZID=America/New_York:20241207T100000
DTEND;TZID=America/New_York:20241207T110000
DTSTAMP:20260425T205458
CREATED:20241016T183902Z
LAST-MODIFIED:20241016T183902Z
UID:10005388-1733565600-1733569200@graveslibrary.org
SUMMARY:SUPER SATURDAY
DESCRIPTION:Spend your Saturday morning in the Junior Room at the Library! We’ll have craft to-go\, games\, puzzles\, hands-on stations\, and more! And don’t forget to try out the themed Scavenger Hunt for a chance to win a prize. \n \n  \nThe Louis T. Graves Memorial Public Library is located at 18 Maine Street\, Kennebunkport. For further information\, please call 967-2778 and ask for the Junior Room or visit www.graveslibrary.org.
URL:https://graveslibrary.org/event/super-saturday-7/
LOCATION:Louis T. Graves Memorial Public Library @ 18 Maine St\, Kennebunkport\, ME 04046\, USA\, 18 Maine Street\, Kennebunkport\, ME\, 04046\, United States
CATEGORIES:Kids And Teen Events
ORGANIZER;CN="Terri Bauld%2C Children's Librarian":MAILTO:tbbgraves@gmail.com
GEO:43.34755;-70.469411
X-APPLE-STRUCTURED-LOCATION;VALUE=URI;X-ADDRESS=Louis T. Graves Memorial Public Library @ 18 Maine St Kennebunkport ME 04046 USA 18 Maine Street Kennebunkport ME 04046 United States;X-APPLE-RADIUS=500;X-TITLE=18 Maine Street:geo:-70.469411,43.34755
END:VEVENT
BEGIN:VEVENT
DTSTART;TZID=America/New_York:20241211T151500
DTEND;TZID=America/New_York:20241211T170000
DTSTAMP:20260425T205458
CREATED:20241017T161252Z
LAST-MODIFIED:20241017T161252Z
UID:10005433-1733930100-1733936400@graveslibrary.org
SUMMARY:COZY FAMILY MOVIE
DESCRIPTION:Cozy Family Movie! \nWednesday\, December 11\, from 3:15 PM – 5:30 PM \nWear your jammies and snuggle in for a cozy time watching a movie with family and friends. \n \nThe Louis T. Graves Memorial Public Library is located at 18 Maine Street\, Kennebunkport. For further information\, please call 967-2778 and ask for the Junior Room or visit www.graveslibrary.org. \n  \n  \n  \n 
URL:https://graveslibrary.org/event/cozy-family-movie/
LOCATION:Louis T. Graves Memorial Public Library @ 18 Maine St\, Kennebunkport\, ME 04046\, USA\, 18 Maine Street\, Kennebunkport\, ME\, 04046\, United States
CATEGORIES:General Events,Kids And Teen Events
ORGANIZER;CN="Terri Bauld%2C Children's Librarian":MAILTO:tbbgraves@gmail.com
GEO:43.34755;-70.469411
X-APPLE-STRUCTURED-LOCATION;VALUE=URI;X-ADDRESS=Louis T. Graves Memorial Public Library @ 18 Maine St Kennebunkport ME 04046 USA 18 Maine Street Kennebunkport ME 04046 United States;X-APPLE-RADIUS=500;X-TITLE=18 Maine Street:geo:-70.469411,43.34755
END:VEVENT
BEGIN:VEVENT
DTSTART;TZID=America/New_York:20241212T150000
DTEND;TZID=America/New_York:20241212T160000
DTSTAMP:20260425T205458
CREATED:20241016T201751Z
LAST-MODIFIED:20241016T202028Z
UID:10005429-1734015600-1734019200@graveslibrary.org
SUMMARY:CIDER\, COOKIES & CRAFT TIME
DESCRIPTION:Cider\, Cookies & Craft Time \nDecorate an ornament for the holidays and enjoy some holiday cheer while you are here! All supplies and light refreshments will be provided. \n \nThe Louis T. Graves Memorial Public Library is located at 18 Maine Street\, Kennebunkport. For further information\, please call 967-2778 and ask for the Junior Room or visit www.graveslibrary.org.
URL:https://graveslibrary.org/event/cider-cookies-craft-time-2/
LOCATION:Louis T. Graves Memorial Public Library @ 18 Maine St\, Kennebunkport\, ME 04046\, USA\, 18 Maine Street\, Kennebunkport\, ME\, 04046\, United States
CATEGORIES:Kids And Teen Events
ORGANIZER;CN="Terri Bauld%2C Children's Librarian":MAILTO:tbbgraves@gmail.com
GEO:43.34755;-70.469411
X-APPLE-STRUCTURED-LOCATION;VALUE=URI;X-ADDRESS=Louis T. Graves Memorial Public Library @ 18 Maine St Kennebunkport ME 04046 USA 18 Maine Street Kennebunkport ME 04046 United States;X-APPLE-RADIUS=500;X-TITLE=18 Maine Street:geo:-70.469411,43.34755
END:VEVENT
BEGIN:VEVENT
DTSTART;TZID=America/New_York:20241213T100000
DTEND;TZID=America/New_York:20241213T103000
DTSTAMP:20260425T205458
CREATED:20241017T162549Z
LAST-MODIFIED:20241017T162549Z
UID:10005435-1734084000-1734085800@graveslibrary.org
SUMMARY:HOLIDAY SONGS SING-ALONG WITH MR. ERIC
DESCRIPTION:Holiday Songs Sing-Along with Mr. Eric on Friday\, December 13 at 10 AM.  \nJoin us for a special story time while we play instruments Mr. Eric will play his guitar and lead us in some great holiday songs. Mr. Eric is a local musician and fan favorite. \n \nThe Louis T. Graves Memorial Public Library is located at 18 Maine Street\, Kennebunkport. For further information\, please call 967-2778 and ask for the Junior Room or visit www.graveslibrary.org.
URL:https://graveslibrary.org/event/holiday-songs-sing-along-with-mr-eric/
LOCATION:Louis T. Graves Memorial Public Library @ 18 Maine St\, Kennebunkport\, ME 04046\, USA\, 18 Maine Street\, Kennebunkport\, ME\, 04046\, United States
CATEGORIES:Kids And Teen Events
ORGANIZER;CN="Terri Bauld%2C Children's Librarian":MAILTO:tbbgraves@gmail.com
GEO:43.34755;-70.469411
X-APPLE-STRUCTURED-LOCATION;VALUE=URI;X-ADDRESS=Louis T. Graves Memorial Public Library @ 18 Maine St Kennebunkport ME 04046 USA 18 Maine Street Kennebunkport ME 04046 United States;X-APPLE-RADIUS=500;X-TITLE=18 Maine Street:geo:-70.469411,43.34755
END:VEVENT
BEGIN:VEVENT
DTSTART;TZID=America/New_York:20241220T100000
DTEND;TZID=America/New_York:20241220T160000
DTSTAMP:20260425T205458
CREATED:20241216T134942Z
LAST-MODIFIED:20241216T143537Z
UID:10005530-1734688800-1734710400@graveslibrary.org
SUMMARY:FOOD DONATIONS FOR COMMUNITY GOURMET CARE PACKAGES
DESCRIPTION:Card Making Station Through December 20\, 10-4:00 \nWe want to invite people of all ages to attend our card-making program\, where we will design cards to go with care packages from the Community Gourmet. This is a beautiful opportunity to show your support and positivity to those in need. During the program\, you can design and personalize cards using various materials\, such as markers\, stickers\, and stamps. These cards will be included in care packages distributed to seniors and individuals in our community. The Community Gourmet is a grass-roots effort to address food insecurity in Southern Maine. Suggested Donations are: Hormel meals\, Cans of soup/beef stew with a flip top\, Carnation Instant Breakfast\, Lorna Dunes\, Tuna fish/chicken packets\, Nutri Grain bars\, Macaroni and cheese cups\, Individual fruit cups\, thank you for all your support! \n \n  \nThe Louis T. Graves Memorial Public Library is located at 18 Maine Street\, Kennebunkport. For further information\, please call 967-2778 or visit our website at www.graveslibrary.org.
URL:https://graveslibrary.org/event/food-donations-for-community-gourmet-care-packages/
LOCATION:Louis T. Graves Memorial Public Library @ 18 Maine St\, Kennebunkport\, ME 04046\, USA\, 18 Maine Street\, Kennebunkport\, ME\, 04046\, United States
CATEGORIES:Kids And Teen Events
ORGANIZER;CN="Terri Bauld%2C Children's Librarian":MAILTO:tbbgraves@gmail.com
GEO:43.34755;-70.469411
X-APPLE-STRUCTURED-LOCATION;VALUE=URI;X-ADDRESS=Louis T. Graves Memorial Public Library @ 18 Maine St Kennebunkport ME 04046 USA 18 Maine Street Kennebunkport ME 04046 United States;X-APPLE-RADIUS=500;X-TITLE=18 Maine Street:geo:-70.469411,43.34755
END:VEVENT
END:VCALENDAR