BEGIN:VCALENDAR
VERSION:2.0
PRODID:-//Louis T Graves Memorial Public Library - ECPv6.15.20//NONSGML v1.0//EN
CALSCALE:GREGORIAN
METHOD:PUBLISH
X-WR-CALNAME:Louis T Graves Memorial Public Library
X-ORIGINAL-URL:https://graveslibrary.org
X-WR-CALDESC:Events for Louis T Graves Memorial Public Library
REFRESH-INTERVAL;VALUE=DURATION:PT1H
X-Robots-Tag:noindex
X-PUBLISHED-TTL:PT1H
BEGIN:VTIMEZONE
TZID:America/New_York
BEGIN:DAYLIGHT
TZOFFSETFROM:-0500
TZOFFSETTO:-0400
TZNAME:EDT
DTSTART:20250309T070000
END:DAYLIGHT
BEGIN:STANDARD
TZOFFSETFROM:-0400
TZOFFSETTO:-0500
TZNAME:EST
DTSTART:20251102T060000
END:STANDARD
BEGIN:DAYLIGHT
TZOFFSETFROM:-0500
TZOFFSETTO:-0400
TZNAME:EDT
DTSTART:20260308T070000
END:DAYLIGHT
BEGIN:STANDARD
TZOFFSETFROM:-0400
TZOFFSETTO:-0500
TZNAME:EST
DTSTART:20261101T060000
END:STANDARD
BEGIN:DAYLIGHT
TZOFFSETFROM:-0500
TZOFFSETTO:-0400
TZNAME:EDT
DTSTART:20270314T070000
END:DAYLIGHT
BEGIN:STANDARD
TZOFFSETFROM:-0400
TZOFFSETTO:-0500
TZNAME:EST
DTSTART:20271107T060000
END:STANDARD
END:VTIMEZONE
BEGIN:VEVENT
DTSTART;TZID=America/New_York:20260302T100000
DTEND;TZID=America/New_York:20260302T160000
DTSTAMP:20260421T225339
CREATED:20250212T204102Z
LAST-MODIFIED:20260219T190914Z
UID:10005620-1772445600-1772467200@graveslibrary.org
SUMMARY:MARCH FOOD DONATIONS FOR COMMUNITY GOURMET CARE PACKAGES
DESCRIPTION:Sharing for Shamrocks March 2 – 31 \nJoin us in the spirit of giving as we partner again with Community Gourmet to provide much-needed care packages for local seniors. Bring food items and help us fill up the pot of gold! For every item donated\, we will add a shamrock to the windows. Let’s make the library green! You can also make a handmade card to include in the care packages. *This event will run through 3/31. Needed food items: Hormel meals\, flip-top soups\, Carnation Instant Breakfast\, Lorna Doones\, Tuna fish/chicken packets\, Nutri-Grain bars\, macaroni and cheese cups\, and fruit cups. \n \nThe Louis T. Graves Memorial Public Library is located at 18 Maine Street\, Kennebunkport. For further information\, please call 207-967-2778 and ask for the Junior Room or visit www.graveslibrary.org.
URL:https://graveslibrary.org/event/food-donations-for-community-gourmet-care-packages-3/
LOCATION:Louis T. Graves Memorial Public Library @ 18 Maine St\, Kennebunkport\, ME 04046\, USA\, 18 Maine Street\, Kennebunkport\, ME\, 04046\, United States
CATEGORIES:Kids And Teen Events
ORGANIZER;CN="Terri Bauld%2C Children's Librarian":MAILTO:tbbgraves@gmail.com
GEO:43.34755;-70.469411
X-APPLE-STRUCTURED-LOCATION;VALUE=URI;X-ADDRESS=Louis T. Graves Memorial Public Library @ 18 Maine St Kennebunkport ME 04046 USA 18 Maine Street Kennebunkport ME 04046 United States;X-APPLE-RADIUS=500;X-TITLE=18 Maine Street:geo:-70.469411,43.34755
END:VEVENT
BEGIN:VEVENT
DTSTART;TZID=America/New_York:20260312T110000
DTEND;TZID=America/New_York:20260312T120000
DTSTAMP:20260421T225339
CREATED:20260219T191802Z
LAST-MODIFIED:20260219T204438Z
UID:10006202-1773313200-1773316800@graveslibrary.org
SUMMARY:TROLLEY MUSEUM
DESCRIPTION:Storytime with Miss Terri at the Seashore Trolley Museum Model Railroad on Thursday\, March 12\, at 11 AM \nAll aboard for stories\, songs\, craft & model train adventure! Adults are $5\, with free admission for anyone 5 years old and younger. Miss Terri from the Graves Library will be the guest reader at the Trolley Museum\, sharing her favorite train stories. Following storytime\, we will all check out the fantastic model trains! This model layout is the largest HO-scale layout in the state of Maine. The Seashore Trolley Museum is located at 195 Log Cabin Road\, Kennebunkport. Please call 207-967-2800 for more information and to register. \n 
URL:https://graveslibrary.org/event/storytime-with-miss-terri-at-the-seashore-trolley-museum/
LOCATION:ME
CATEGORIES:Kids And Teen Events
ORGANIZER;CN="Terri Bauld%2C Children's Librarian":MAILTO:tbbgraves@gmail.com
END:VEVENT
BEGIN:VEVENT
DTSTART;TZID=America/New_York:20260312T153000
DTEND;TZID=America/New_York:20260312T163000
DTSTAMP:20260421T225339
CREATED:20260219T193828Z
LAST-MODIFIED:20260219T193828Z
UID:10006203-1773329400-1773333000@graveslibrary.org
SUMMARY:TELLING ROOM
DESCRIPTION:The Telling Room – Thursday\, March 12\, 3:30-4:30 PM \nDo you want to write and publish your own book? The Telling Room’s Young Emerging Authors program is a free\, paid\, 15 month-long writing and publishing program. Every spring\, we select four Maine teenagers in grades 8 -12 to write\, edit\, and publish their own books. Join Devin Gifford\, a junior at Dartmouth College\, YEA alum and author of “The Unraveling” to hear about the program. She will discuss the process of writing a book\, as well as help get your own writing going with games and prompts. This program is for students in grades 7-12\, and pre-registration is encouraged. Light refreshments will be provided. \n \nThe Louis T. Graves Memorial Public Library is located at 18 Maine Street\, Kennebunkport. For further information\, please call 207-967-2778 and ask for the Junior Room or visit www.graveslibrary.org.
URL:https://graveslibrary.org/event/telling-room/
LOCATION:Louis T. Graves Memorial Public Library @ 18 Maine St\, Kennebunkport\, ME 04046\, USA\, 18 Maine Street\, Kennebunkport\, ME\, 04046\, United States
CATEGORIES:Kids And Teen Events
ORGANIZER;CN="Terri Bauld%2C Children's Librarian":MAILTO:tbbgraves@gmail.com
GEO:43.34755;-70.469411
X-APPLE-STRUCTURED-LOCATION;VALUE=URI;X-ADDRESS=Louis T. Graves Memorial Public Library @ 18 Maine St Kennebunkport ME 04046 USA 18 Maine Street Kennebunkport ME 04046 United States;X-APPLE-RADIUS=500;X-TITLE=18 Maine Street:geo:-70.469411,43.34755
END:VEVENT
BEGIN:VEVENT
DTSTART;TZID=America/New_York:20260320T100000
DTEND;TZID=America/New_York:20260320T103000
DTSTAMP:20260421T225339
CREATED:20260219T195635Z
LAST-MODIFIED:20260219T195635Z
UID:10006206-1774000800-1774002600@graveslibrary.org
SUMMARY:FURRY TALES STORYTIME
DESCRIPTION:Furry Tales Storytime \nWe are so excited to have our special guest\, Shelby. Preschoolers and their families explore the exciting world of animals with stories\, playtime\, crafts\, songs\, movement\, and plenty of animal time. Each visit is a new adventure! \n \n  \n  \n  \nThe Louis T. Graves Memorial Public Library is located at 18 Maine Street\, Kennebunkport. For further information\, please call 207-967-2778 and ask for the Junior Room or visit www.graveslibrary.org.
URL:https://graveslibrary.org/event/furry-tales-storytime-5/
LOCATION:Louis T. Graves Memorial Public Library @ 18 Maine St\, Kennebunkport\, ME 04046\, USA\, 18 Maine Street\, Kennebunkport\, ME\, 04046\, United States
CATEGORIES:Kids And Teen Events
ORGANIZER;CN="Terri Bauld%2C Children's Librarian":MAILTO:tbbgraves@gmail.com
GEO:43.34755;-70.469411
X-APPLE-STRUCTURED-LOCATION;VALUE=URI;X-ADDRESS=Louis T. Graves Memorial Public Library @ 18 Maine St Kennebunkport ME 04046 USA 18 Maine Street Kennebunkport ME 04046 United States;X-APPLE-RADIUS=500;X-TITLE=18 Maine Street:geo:-70.469411,43.34755
END:VEVENT
END:VCALENDAR