BEGIN:VCALENDAR
VERSION:2.0
PRODID:-//Louis T Graves Memorial Public Library - ECPv6.15.20//NONSGML v1.0//EN
CALSCALE:GREGORIAN
METHOD:PUBLISH
X-WR-CALNAME:Louis T Graves Memorial Public Library
X-ORIGINAL-URL:https://graveslibrary.org
X-WR-CALDESC:Events for Louis T Graves Memorial Public Library
REFRESH-INTERVAL;VALUE=DURATION:PT1H
X-Robots-Tag:noindex
X-PUBLISHED-TTL:PT1H
BEGIN:VTIMEZONE
TZID:America/New_York
BEGIN:DAYLIGHT
TZOFFSETFROM:-0500
TZOFFSETTO:-0400
TZNAME:EDT
DTSTART:20240310T070000
END:DAYLIGHT
BEGIN:STANDARD
TZOFFSETFROM:-0400
TZOFFSETTO:-0500
TZNAME:EST
DTSTART:20241103T060000
END:STANDARD
BEGIN:DAYLIGHT
TZOFFSETFROM:-0500
TZOFFSETTO:-0400
TZNAME:EDT
DTSTART:20250309T070000
END:DAYLIGHT
BEGIN:STANDARD
TZOFFSETFROM:-0400
TZOFFSETTO:-0500
TZNAME:EST
DTSTART:20251102T060000
END:STANDARD
BEGIN:DAYLIGHT
TZOFFSETFROM:-0500
TZOFFSETTO:-0400
TZNAME:EDT
DTSTART:20260308T070000
END:DAYLIGHT
BEGIN:STANDARD
TZOFFSETFROM:-0400
TZOFFSETTO:-0500
TZNAME:EST
DTSTART:20261101T060000
END:STANDARD
END:VTIMEZONE
BEGIN:VEVENT
DTSTART;TZID=America/New_York:20250623T100000
DTEND;TZID=America/New_York:20250623T160000
DTSTAMP:20260420T034739
CREATED:20250520T195039Z
LAST-MODIFIED:20250520T195039Z
UID:10005740-1750672800-1750694400@graveslibrary.org
SUMMARY:SUMMER READING PROGRAM KICKOFF
DESCRIPTION:Summer Reading Kickoff \nJoin us for our Summer Reading Program Kickoff on Monday\, June 23\, from 10:00 AM – 4:00 PM. Pick up the summer program brochure\, visit the book swap table\, and sign up for special events. \n \n  \n  \nThe Louis T. Graves Memorial Public Library is located at 18 Maine Street\, Kennebunkport. For further information\, please call 207-967-2778 or visit our website at www.graveslibrary.org. \n  \n 
URL:https://graveslibrary.org/event/summer-reading-program-kickoff/
LOCATION:Louis T. Graves Memorial Public Library @ 18 Maine St\, Kennebunkport\, ME 04046\, USA\, 18 Maine Street\, Kennebunkport\, ME\, 04046\, United States
CATEGORIES:Kids And Teen Events
ORGANIZER;CN="Terri Bauld%2C Children's Librarian":MAILTO:tbbgraves@gmail.com
GEO:43.34755;-70.469411
X-APPLE-STRUCTURED-LOCATION;VALUE=URI;X-ADDRESS=Louis T. Graves Memorial Public Library @ 18 Maine St Kennebunkport ME 04046 USA 18 Maine Street Kennebunkport ME 04046 United States;X-APPLE-RADIUS=500;X-TITLE=18 Maine Street:geo:-70.469411,43.34755
END:VEVENT
BEGIN:VEVENT
DTSTART;TZID=America/New_York:20250623T100000
DTEND;TZID=America/New_York:20250623T160000
DTSTAMP:20260420T034739
CREATED:20250520T195358Z
LAST-MODIFIED:20250520T195358Z
UID:10005741-1750672800-1750694400@graveslibrary.org
SUMMARY:CHILDREN'S ART SHOW
DESCRIPTION:Children’s Art Show on Monday\, June 23 from 2:00 – 4:00 PM \nCome see all our little Picassos at a Children’s Art Show. Lots of different mediums\, styles\, and talent! Light refreshments will be served. \n \nThe Louis T. Graves Memorial Public Library is located at 18 Maine Street\, Kennebunkport. For further information\, please call 207-967-2778 or visit our website at www.graveslibrary.org. \n  \n 
URL:https://graveslibrary.org/event/childrens-art-show/
LOCATION:Louis T. Graves Memorial Public Library @ 18 Maine St\, Kennebunkport\, ME 04046\, USA\, 18 Maine Street\, Kennebunkport\, ME\, 04046\, United States
CATEGORIES:Kids And Teen Events
ORGANIZER;CN="Terri Bauld%2C Children's Librarian":MAILTO:tbbgraves@gmail.com
GEO:43.34755;-70.469411
X-APPLE-STRUCTURED-LOCATION;VALUE=URI;X-ADDRESS=Louis T. Graves Memorial Public Library @ 18 Maine St Kennebunkport ME 04046 USA 18 Maine Street Kennebunkport ME 04046 United States;X-APPLE-RADIUS=500;X-TITLE=18 Maine Street:geo:-70.469411,43.34755
END:VEVENT
END:VCALENDAR