BEGIN:VCALENDAR
VERSION:2.0
PRODID:-//Louis T Graves Memorial Public Library - ECPv6.15.20//NONSGML v1.0//EN
CALSCALE:GREGORIAN
METHOD:PUBLISH
X-WR-CALNAME:Louis T Graves Memorial Public Library
X-ORIGINAL-URL:https://graveslibrary.org
X-WR-CALDESC:Events for Louis T Graves Memorial Public Library
REFRESH-INTERVAL;VALUE=DURATION:PT1H
X-Robots-Tag:noindex
X-PUBLISHED-TTL:PT1H
BEGIN:VTIMEZONE
TZID:America/New_York
BEGIN:DAYLIGHT
TZOFFSETFROM:-0500
TZOFFSETTO:-0400
TZNAME:EDT
DTSTART:20230312T070000
END:DAYLIGHT
BEGIN:STANDARD
TZOFFSETFROM:-0400
TZOFFSETTO:-0500
TZNAME:EST
DTSTART:20231105T060000
END:STANDARD
BEGIN:DAYLIGHT
TZOFFSETFROM:-0500
TZOFFSETTO:-0400
TZNAME:EDT
DTSTART:20240310T070000
END:DAYLIGHT
BEGIN:STANDARD
TZOFFSETFROM:-0400
TZOFFSETTO:-0500
TZNAME:EST
DTSTART:20241103T060000
END:STANDARD
BEGIN:DAYLIGHT
TZOFFSETFROM:-0500
TZOFFSETTO:-0400
TZNAME:EDT
DTSTART:20250309T070000
END:DAYLIGHT
BEGIN:STANDARD
TZOFFSETFROM:-0400
TZOFFSETTO:-0500
TZNAME:EST
DTSTART:20251102T060000
END:STANDARD
END:VTIMEZONE
BEGIN:VEVENT
DTSTART;TZID=America/New_York:20241004T100000
DTEND;TZID=America/New_York:20241004T110000
DTSTAMP:20260424T225233
CREATED:20240918T185953Z
LAST-MODIFIED:20240923T201300Z
UID:10005373-1728036000-1728039600@graveslibrary.org
SUMMARY:SPECIAL STORY TIME  - JOE THE FIREFIGHTER
DESCRIPTION:Please join Miss Terri for story time on Friday\, October 4 at 10:00 a.m. Guest reader Firefighter Joe has a special story for you! Join us to celebrate Fire Safety Week at Graves Library. \nStories\, songs\, and fun activities. All ages are welcome. \n \n  \nFor more information\, please call the Library at 967-2778. \n 
URL:https://graveslibrary.org/event/special-story-time-joe-the-firefighter-2/
LOCATION:Louis T. Graves Memorial Public Library @ 18 Maine St\, Kennebunkport\, ME 04046\, USA\, 18 Maine Street\, Kennebunkport\, ME\, 04046\, United States
CATEGORIES:Kids And Teen Events
ORGANIZER;CN="Terri Bauld%2C Children's Librarian":MAILTO:tbbgraves@gmail.com
GEO:43.34755;-70.469411
X-APPLE-STRUCTURED-LOCATION;VALUE=URI;X-ADDRESS=Louis T. Graves Memorial Public Library @ 18 Maine St Kennebunkport ME 04046 USA 18 Maine Street Kennebunkport ME 04046 United States;X-APPLE-RADIUS=500;X-TITLE=18 Maine Street:geo:-70.469411,43.34755
END:VEVENT
BEGIN:VEVENT
DTSTART;TZID=America/New_York:20241005T090000
DTEND;TZID=America/New_York:20241005T100000
DTSTAMP:20260424T225233
CREATED:20240917T202053Z
LAST-MODIFIED:20240917T202053Z
UID:10005357-1728118800-1728122400@graveslibrary.org
SUMMARY:ON THE NIGHTSTAND - BOOK DISCUSSION GROUP
DESCRIPTION:Please join us for some coffee and conversation. This group will meet in the Dow Room on the first Saturday of every month. \nBring a book that is on your nightstand currently being read. During the hour\, we will share what we are reading and create a list for others to explore. We hope to see you here. \n  \n \nPlease call the Library with any questions.  (967-2778) \n 
URL:https://graveslibrary.org/event/on-the-nightstand-book-discussion-group-5/
LOCATION:Louis T. Graves Memorial Public Library @ 18 Maine St\, Kennebunkport\, ME 04046\, USA\, 18 Maine Street\, Kennebunkport\, ME\, 04046\, United States
CATEGORIES:General Events
ORGANIZER;CN="Loretta Swift%2C Library Director":MAILTO:lbsgraves@gmail.com
GEO:43.34755;-70.469411
X-APPLE-STRUCTURED-LOCATION;VALUE=URI;X-ADDRESS=Louis T. Graves Memorial Public Library @ 18 Maine St Kennebunkport ME 04046 USA 18 Maine Street Kennebunkport ME 04046 United States;X-APPLE-RADIUS=500;X-TITLE=18 Maine Street:geo:-70.469411,43.34755
END:VEVENT
BEGIN:VEVENT
DTSTART;TZID=America/New_York:20241005T100000
DTEND;TZID=America/New_York:20241005T110000
DTSTAMP:20260424T225233
CREATED:20240917T202256Z
LAST-MODIFIED:20240917T202256Z
UID:10005358-1728122400-1728126000@graveslibrary.org
SUMMARY:SUPER SATURDAY
DESCRIPTION:Spend your Saturday morning in the Junior Room at the Library! We’ll have craft to-go\, games\, puzzles\, hands-on stations\, and more! And don’t forget to try out the themed Scavenger Hunt for a chance to win a prize. \n \n  \nThe Louis T. Graves Memorial Public Library is located at 18 Maine Street\, Kennebunkport. For further information\, please call 967-2778 and ask for the Junior Room or visit www.graveslibrary.org.
URL:https://graveslibrary.org/event/super-saturday-5/
LOCATION:Louis T. Graves Memorial Public Library @ 18 Maine St\, Kennebunkport\, ME 04046\, USA\, 18 Maine Street\, Kennebunkport\, ME\, 04046\, United States
CATEGORIES:Kids And Teen Events
ORGANIZER;CN="Terri Bauld%2C Children's Librarian":MAILTO:tbbgraves@gmail.com
GEO:43.34755;-70.469411
X-APPLE-STRUCTURED-LOCATION;VALUE=URI;X-ADDRESS=Louis T. Graves Memorial Public Library @ 18 Maine St Kennebunkport ME 04046 USA 18 Maine Street Kennebunkport ME 04046 United States;X-APPLE-RADIUS=500;X-TITLE=18 Maine Street:geo:-70.469411,43.34755
END:VEVENT
BEGIN:VEVENT
DTSTART;TZID=America/New_York:20241005T140000
DTEND;TZID=America/New_York:20241005T153000
DTSTAMP:20260424T225233
CREATED:20240430T232933Z
LAST-MODIFIED:20240911T154055Z
UID:10005182-1728136800-1728142200@graveslibrary.org
SUMMARY:MAINE AUTHOR IRENE DRAGO - OCTOBER 5 @ 2:00 PM
DESCRIPTION:THE PATSY BRAY MAHONEY LECTURE SERIES PRESENTS \nMaine Author Irene Drago will be here at the Graves Library on Saturday\, October 5 at 2:00 pm to talk about her passion for writing and the sea. \nBorn in the shadow of the Brooklyn Bridge\, Irene M. Drago developed a keen interest in every kind of watercraft at an early age. Before moving to Maine\, she worked for the Defense Department as a Russian analyst\, earned a Master of Arts degree in Spanish language and literature\, and taught at the high school and college level. Her debut novel\, Daughters of Long Reach\, was a 2018 Next Generation Indie Book Awards Winner\, First Novel and led to a sequel\, The Maine Point. More recently\, Lavinia Wren and the Sailmakers is a 2023 Next Generation Indie Book Awards Finalist\, Regional Fiction. If Drago isn’t penning a story\, you’re apt to find her giving a shipyard tour at Maine Maritime Museum or leading a creative writing workshop. But in fair weather\, there’s a good chance you’ll find her piloting her Maritime Skiff on Casco Bay. \n \nCopies of Ms. Drago’s books will be available for sale and signing after the discussion. \nLight refreshments will be provided by the Graves Library Snack Team.  Please call the Library for more information on this event and the rest of the series (967-2778).   Parking is available along Maine Street\, the North Street Fire Station Parking Lot\, and Consolidated School (Route 9). \nThe Graves Library is located at 18 Maine Street\, Kennebunkport\, Maine.  Please enter through the white door in the Parking Lot.
URL:https://graveslibrary.org/event/maine-author-irene-drago-october-5-200-pm/
LOCATION:Louis T. Graves Memorial Public Library @ 18 S Main St\, Kennebunkport\, ME 04046\, USA\, United States
CATEGORIES:General Events
ORGANIZER;CN="Loretta Swift%2C Library Director":MAILTO:lbsgraves@gmail.com
GEO:43.34755;-70.469411
END:VEVENT
BEGIN:VEVENT
DTSTART;TZID=America/New_York:20241008T120000
DTEND;TZID=America/New_York:20241008T140000
DTSTAMP:20260424T225233
CREATED:20240918T185014Z
LAST-MODIFIED:20240918T185014Z
UID:10005366-1728388800-1728396000@graveslibrary.org
SUMMARY:2 TOPIC CLASS WITH LOU SALOME
DESCRIPTION:TOPIC 1. American society in the 1940s\, ’50s\, and ’60s through the eyes of Number 42\, Jackie Robinson. The core of this class is baseball in New York City and the United States during those three decades\, but the story is as much about American society and American history\, as it is about baseball. \nNoon to 2 p.m. on Tuesday\, October 8 Graves Library \n \nTopic 2: Afghanistan — all you didn’t know about the country and the longest war in United States history. I’ll tell that story from personal experience and Afghanistan’s history\, complete with a burqa (burka)\, a Taliban turban\, and a Tajik-style Pakul (hat)\, each of which you can touch and wear. \nnoon to 2  Tuesdays — October 15\, 22 and 29 Graves Library \nYour Instructor:  Lou Salome \nLou is the author of “Violence\, Veils and Bloodlines: Reporting from War zones in Europe\, Asia and Africa”. He earned a BS from the College of the Holy Cross and a MA from Boston College. He is a retired COX Newspapers reporter who has covered the conflicts in Pakistan\, Afghanistan and the Middle East. \nOnline registration is required; please visit: https://south-coast-senior-college.coursestorm.com/course/2-topics-jackie-robinson-the-longest-war-in-us-history-the-logest-war \nor call South Coast Senior College at 274-3105. \nThe Louis T. Graves Memorial Public Library is located at 18 Maine Street\, Kennebunkport. For further information\, please call 967-2778 or visit our website at www.graveslibrary.org.
URL:https://graveslibrary.org/event/2-topic-class-with-lou-salome/2024-10-08/
LOCATION:Louis T. Graves Memorial Public Library @ 18 Maine St\, Kennebunkport\, ME 04046\, USA\, 18 Maine Street\, Kennebunkport\, ME\, 04046\, United States
GEO:43.34755;-70.469411
X-APPLE-STRUCTURED-LOCATION;VALUE=URI;X-ADDRESS=Louis T. Graves Memorial Public Library @ 18 Maine St Kennebunkport ME 04046 USA 18 Maine Street Kennebunkport ME 04046 United States;X-APPLE-RADIUS=500;X-TITLE=18 Maine Street:geo:-70.469411,43.34755
END:VEVENT
BEGIN:VEVENT
DTSTART;TZID=America/New_York:20241009T090000
DTEND;TZID=America/New_York:20241009T100000
DTSTAMP:20260424T225233
CREATED:20240827T180043Z
LAST-MODIFIED:20240827T180043Z
UID:10005346-1728464400-1728468000@graveslibrary.org
SUMMARY:COMMUNITY CONNECTIONS - WEDNESDAY\, OCTOBER 9 @ 9:00 AM
DESCRIPTION:  \n  \n  \nWe invite you to join us on Wednesday\, October 9th at 9:00 am for our inaugural “Community Connections” session. This hour will feature coffee and conversation with Town Clerk Tracey O’Roak at Graves Library.  Tracey will discuss the upcoming election in an informal setting. Come meet Kennebunkport’s Town Clerk and gain insight into the voting process. Light refreshments will be provided! \nFollowing this event\, each month will bring a new member of our Town’s government to share updates and essential information. For further details about Community Connections\, please contact the Library at 967-2778.  The Library is located at 18 Maine Street\, Kennebunkport.
URL:https://graveslibrary.org/event/community-connections-wednesday-october-9-900-am/
LOCATION:Louis T. Graves Memorial Public Library @ 18 Maine St\, Kennebunkport\, ME 04046\, USA\, 18 Maine Street\, Kennebunkport\, ME\, 04046\, United States
CATEGORIES:General Events
ORGANIZER;CN="Loretta Swift%2C Library Director":MAILTO:lbsgraves@gmail.com
GEO:43.34755;-70.469411
X-APPLE-STRUCTURED-LOCATION;VALUE=URI;X-ADDRESS=Louis T. Graves Memorial Public Library @ 18 Maine St Kennebunkport ME 04046 USA 18 Maine Street Kennebunkport ME 04046 United States;X-APPLE-RADIUS=500;X-TITLE=18 Maine Street:geo:-70.469411,43.34755
END:VEVENT
BEGIN:VEVENT
DTSTART;TZID=America/New_York:20241010T094500
DTEND;TZID=America/New_York:20241010T110000
DTSTAMP:20260424T225233
CREATED:20240917T203020Z
LAST-MODIFIED:20240917T203020Z
UID:10005359-1728553500-1728558000@graveslibrary.org
SUMMARY:MORNING BOOK GROUP
DESCRIPTION:Morning Book Group \nIn October\, the group will be discussing When We Were the Kennedys by Monica Wood. This group meets on the second Thursday of every month at 9:45 in the Dow Room. New members are always welcome. For further information\, please call 967-2778.  \n \n  \n  \nLouis T. Graves Memorial Public Library\, 18 Maine Street\, Kennebunkport      www.graveslibrary.org.
URL:https://graveslibrary.org/event/morning-book-group-7/
LOCATION:Louis T. Graves Memorial Public Library @ 18 Maine St\, Kennebunkport\, ME 04046\, USA\, 18 Maine Street\, Kennebunkport\, ME\, 04046\, United States
CATEGORIES:General Events
ORGANIZER;CN="Loretta Swift%2C Library Director":MAILTO:lbsgraves@gmail.com
GEO:43.34755;-70.469411
X-APPLE-STRUCTURED-LOCATION;VALUE=URI;X-ADDRESS=Louis T. Graves Memorial Public Library @ 18 Maine St Kennebunkport ME 04046 USA 18 Maine Street Kennebunkport ME 04046 United States;X-APPLE-RADIUS=500;X-TITLE=18 Maine Street:geo:-70.469411,43.34755
END:VEVENT
BEGIN:VEVENT
DTSTART;TZID=America/New_York:20241015T120000
DTEND;TZID=America/New_York:20241015T140000
DTSTAMP:20260424T225233
CREATED:20240918T185014Z
LAST-MODIFIED:20240918T185014Z
UID:10005367-1728993600-1729000800@graveslibrary.org
SUMMARY:2 TOPIC CLASS WITH LOU SALOME
DESCRIPTION:TOPIC 1. American society in the 1940s\, ’50s\, and ’60s through the eyes of Number 42\, Jackie Robinson. The core of this class is baseball in New York City and the United States during those three decades\, but the story is as much about American society and American history\, as it is about baseball. \nNoon to 2 p.m. on Tuesday\, October 8 Graves Library \n \nTopic 2: Afghanistan — all you didn’t know about the country and the longest war in United States history. I’ll tell that story from personal experience and Afghanistan’s history\, complete with a burqa (burka)\, a Taliban turban\, and a Tajik-style Pakul (hat)\, each of which you can touch and wear. \nnoon to 2  Tuesdays — October 15\, 22 and 29 Graves Library \nYour Instructor:  Lou Salome \nLou is the author of “Violence\, Veils and Bloodlines: Reporting from War zones in Europe\, Asia and Africa”. He earned a BS from the College of the Holy Cross and a MA from Boston College. He is a retired COX Newspapers reporter who has covered the conflicts in Pakistan\, Afghanistan and the Middle East. \nOnline registration is required; please visit: https://south-coast-senior-college.coursestorm.com/course/2-topics-jackie-robinson-the-longest-war-in-us-history-the-logest-war \nor call South Coast Senior College at 274-3105. \nThe Louis T. Graves Memorial Public Library is located at 18 Maine Street\, Kennebunkport. For further information\, please call 967-2778 or visit our website at www.graveslibrary.org.
URL:https://graveslibrary.org/event/2-topic-class-with-lou-salome/2024-10-15/
LOCATION:Louis T. Graves Memorial Public Library @ 18 Maine St\, Kennebunkport\, ME 04046\, USA\, 18 Maine Street\, Kennebunkport\, ME\, 04046\, United States
GEO:43.34755;-70.469411
X-APPLE-STRUCTURED-LOCATION;VALUE=URI;X-ADDRESS=Louis T. Graves Memorial Public Library @ 18 Maine St Kennebunkport ME 04046 USA 18 Maine Street Kennebunkport ME 04046 United States;X-APPLE-RADIUS=500;X-TITLE=18 Maine Street:geo:-70.469411,43.34755
END:VEVENT
BEGIN:VEVENT
DTSTART;TZID=America/New_York:20241016T170000
DTEND;TZID=America/New_York:20241016T200000
DTSTAMP:20260424T225233
CREATED:20240621T192040Z
LAST-MODIFIED:20240806T164841Z
UID:10005292-1729098000-1729108800@graveslibrary.org
SUMMARY:RICHARD RUSSO AND TOM PERROTTA @ VINEGAR HILL - OCTOBER 16 @ 5 PM
DESCRIPTION:RICHARD RUSSO AND TOM PERROTTA \n  \nWEDNESDAY\, OCTOBER 16\, 2024 \nVinegar Hill Music Theater\, 53 Old Post Road\, Arundel \nReserved seat admission ticket is $50-$60  \nPURCHASE TICKETS NOW \n \n  \n  \n  \nA (cash bar) cocktail hour and book sales will start at 5 PM followed by an intimate conversation with award-winning authors at 6:30 pm.  \nGraves Library is thrilled to welcome acclaimed author Richard Russo back to the Vinegar Hill stage. He will be joined by bestselling author Tom Perrotta for an evening of lively conversation on October 16 at 5:00 PM. Reserved seating tickets are on sale now at vinhillmusic.com for $50-$60. \nJoin us for food and drinks before the show in the outdoor garden prior to the event. \nThe night’s food truck is Vintage Dogs – featuring a spread of specialty hot dogs (including vegan ones!)\, sandwiches\, and fries! \nPrint: A Bookstore will be selling a variety of the authors’ works during the first hour of the event. \nBook signing with authors following the event. \nTom Perrotta is the bestselling author of ten works of fiction\, including “Election” and “Little Children”\, both of which were made into Oscar-nominated films\, and “The Leftovers” and “Mrs. Fletcher”\, which were adapted into critically acclaimed HBO series. His other books include “Bad Haircut”\, “The Wishbones”\, “Joe College”\, “The Abstinence Teacher”\, “Nine Inches”\, and his newest\, “Tracy Flick Can’t Win”. Perrotta lives outside Boston. \nRichard Russo is the author of ten acclaimed novels\, including “Everybody’s Fool” and “That Old Cape Magic”; two collections of stories; and the memoir “Elsewhere”. In 2002\, he received the Pulitzer Prize for “Empire Falls”\, which\, like “Nobody’s Fool”\, was adapted into a multiple-award-winning miniseries; in 2017\, he received France’s Grand Prix de Littérature Américaine. His novel\, “Somebody’s Fool” was released in July 2023. \nGraves Memorial Library thanks Vinegar Hill Music Theatre for their continued generosity in sponsoring this event. \nVinegar Hill Music Theatre is located at: 53 Old Post Road\, Arundel\, Maine 04046\, Tel: 207-985-5552.  The proceeds of all tickets sold benefit the Louis T. Graves Memorial Public Library. \nPURCHASE TICKETS
URL:https://graveslibrary.org/event/richard-russo-and-tom-perrotta-vinegar-hill-october-16-5-pm/
LOCATION:Vinegar Hill Music Theater\, 53 Old Post Road\, Arundel\, Maine 04046\, 53 Old Post Road\, Arundel\, ME\, 04046\, United States
CATEGORIES:General Events,News
ORGANIZER;CN="Loretta Swift%2C Library Director":MAILTO:lbsgraves@gmail.com
END:VEVENT
BEGIN:VEVENT
DTSTART;TZID=America/New_York:20241022T120000
DTEND;TZID=America/New_York:20241022T140000
DTSTAMP:20260424T225233
CREATED:20240918T185014Z
LAST-MODIFIED:20240918T185014Z
UID:10005368-1729598400-1729605600@graveslibrary.org
SUMMARY:2 TOPIC CLASS WITH LOU SALOME
DESCRIPTION:TOPIC 1. American society in the 1940s\, ’50s\, and ’60s through the eyes of Number 42\, Jackie Robinson. The core of this class is baseball in New York City and the United States during those three decades\, but the story is as much about American society and American history\, as it is about baseball. \nNoon to 2 p.m. on Tuesday\, October 8 Graves Library \n \nTopic 2: Afghanistan — all you didn’t know about the country and the longest war in United States history. I’ll tell that story from personal experience and Afghanistan’s history\, complete with a burqa (burka)\, a Taliban turban\, and a Tajik-style Pakul (hat)\, each of which you can touch and wear. \nnoon to 2  Tuesdays — October 15\, 22 and 29 Graves Library \nYour Instructor:  Lou Salome \nLou is the author of “Violence\, Veils and Bloodlines: Reporting from War zones in Europe\, Asia and Africa”. He earned a BS from the College of the Holy Cross and a MA from Boston College. He is a retired COX Newspapers reporter who has covered the conflicts in Pakistan\, Afghanistan and the Middle East. \nOnline registration is required; please visit: https://south-coast-senior-college.coursestorm.com/course/2-topics-jackie-robinson-the-longest-war-in-us-history-the-logest-war \nor call South Coast Senior College at 274-3105. \nThe Louis T. Graves Memorial Public Library is located at 18 Maine Street\, Kennebunkport. For further information\, please call 967-2778 or visit our website at www.graveslibrary.org.
URL:https://graveslibrary.org/event/2-topic-class-with-lou-salome/2024-10-22/
LOCATION:Louis T. Graves Memorial Public Library @ 18 Maine St\, Kennebunkport\, ME 04046\, USA\, 18 Maine Street\, Kennebunkport\, ME\, 04046\, United States
GEO:43.34755;-70.469411
X-APPLE-STRUCTURED-LOCATION;VALUE=URI;X-ADDRESS=Louis T. Graves Memorial Public Library @ 18 Maine St Kennebunkport ME 04046 USA 18 Maine Street Kennebunkport ME 04046 United States;X-APPLE-RADIUS=500;X-TITLE=18 Maine Street:geo:-70.469411,43.34755
END:VEVENT
BEGIN:VEVENT
DTSTART;TZID=America/New_York:20241025T100000
DTEND;TZID=America/New_York:20241025T110000
DTSTAMP:20260424T225233
CREATED:20240918T190620Z
LAST-MODIFIED:20240918T190620Z
UID:10005375-1729850400-1729854000@graveslibrary.org
SUMMARY:SPECIAL STORY TIME – HALLOWEEN COSTUME PARADE
DESCRIPTION:Please join us for a special “costume” story time on Friday\, October 25 at 10:00 a.m.  Stories\, songs\, and a craft in celebration of Halloween!  Wear your costume\, and march in our parade. \n \n  \nAll ages are welcome.  For more information\, please call the Library at 967-2778.
URL:https://graveslibrary.org/event/special-story-time-halloween-costume-parade/
LOCATION:Louis T. Graves Memorial Public Library @ 18 Maine St\, Kennebunkport\, ME 04046\, USA\, 18 Maine Street\, Kennebunkport\, ME\, 04046\, United States
CATEGORIES:Kids And Teen Events
ORGANIZER;CN="Terri Bauld%2C Children's Librarian":MAILTO:tbbgraves@gmail.com
GEO:43.34755;-70.469411
X-APPLE-STRUCTURED-LOCATION;VALUE=URI;X-ADDRESS=Louis T. Graves Memorial Public Library @ 18 Maine St Kennebunkport ME 04046 USA 18 Maine Street Kennebunkport ME 04046 United States;X-APPLE-RADIUS=500;X-TITLE=18 Maine Street:geo:-70.469411,43.34755
END:VEVENT
BEGIN:VEVENT
DTSTART;TZID=America/New_York:20241029T120000
DTEND;TZID=America/New_York:20241029T140000
DTSTAMP:20260424T225233
CREATED:20240918T185014Z
LAST-MODIFIED:20240918T185014Z
UID:10005369-1730203200-1730210400@graveslibrary.org
SUMMARY:2 TOPIC CLASS WITH LOU SALOME
DESCRIPTION:TOPIC 1. American society in the 1940s\, ’50s\, and ’60s through the eyes of Number 42\, Jackie Robinson. The core of this class is baseball in New York City and the United States during those three decades\, but the story is as much about American society and American history\, as it is about baseball. \nNoon to 2 p.m. on Tuesday\, October 8 Graves Library \n \nTopic 2: Afghanistan — all you didn’t know about the country and the longest war in United States history. I’ll tell that story from personal experience and Afghanistan’s history\, complete with a burqa (burka)\, a Taliban turban\, and a Tajik-style Pakul (hat)\, each of which you can touch and wear. \nnoon to 2  Tuesdays — October 15\, 22 and 29 Graves Library \nYour Instructor:  Lou Salome \nLou is the author of “Violence\, Veils and Bloodlines: Reporting from War zones in Europe\, Asia and Africa”. He earned a BS from the College of the Holy Cross and a MA from Boston College. He is a retired COX Newspapers reporter who has covered the conflicts in Pakistan\, Afghanistan and the Middle East. \nOnline registration is required; please visit: https://south-coast-senior-college.coursestorm.com/course/2-topics-jackie-robinson-the-longest-war-in-us-history-the-logest-war \nor call South Coast Senior College at 274-3105. \nThe Louis T. Graves Memorial Public Library is located at 18 Maine Street\, Kennebunkport. For further information\, please call 967-2778 or visit our website at www.graveslibrary.org.
URL:https://graveslibrary.org/event/2-topic-class-with-lou-salome/2024-10-29/
LOCATION:Louis T. Graves Memorial Public Library @ 18 Maine St\, Kennebunkport\, ME 04046\, USA\, 18 Maine Street\, Kennebunkport\, ME\, 04046\, United States
GEO:43.34755;-70.469411
X-APPLE-STRUCTURED-LOCATION;VALUE=URI;X-ADDRESS=Louis T. Graves Memorial Public Library @ 18 Maine St Kennebunkport ME 04046 USA 18 Maine Street Kennebunkport ME 04046 United States;X-APPLE-RADIUS=500;X-TITLE=18 Maine Street:geo:-70.469411,43.34755
END:VEVENT
BEGIN:VEVENT
DTSTART;TZID=America/New_York:20241031T150000
DTEND;TZID=America/New_York:20241031T170000
DTSTAMP:20260424T225233
CREATED:20241023T150126Z
LAST-MODIFIED:20241030T143504Z
UID:10005436-1730386800-1730394000@graveslibrary.org
SUMMARY:TRICK OR TREAT - OCTOBER 31 FROM 3:00 TO 5:00 PM
DESCRIPTION:If you are out and about on Thursday\, October 31\, we encourage you and your family to stop by the Library between 3:00 and 5:00 pm to show us your costumes and pick up a treat.  We would love to see you. \n \n  \nThe Chamber of Commerce lantern will be out at the curb letting you know we have a piece of sugar just for you!
URL:https://graveslibrary.org/event/trick-or-treat-october-31-from-300-to-500-pm/
LOCATION:Louis T. Graves Memorial Public Library @ 18 Maine St\, Kennebunkport\, ME 04046\, USA\, 18 Maine Street\, Kennebunkport\, ME\, 04046\, United States
CATEGORIES:Kids And Teen Events
ORGANIZER;CN="Terri Bauld%2C Children's Librarian":MAILTO:tbbgraves@gmail.com
GEO:43.34755;-70.469411
X-APPLE-STRUCTURED-LOCATION;VALUE=URI;X-ADDRESS=Louis T. Graves Memorial Public Library @ 18 Maine St Kennebunkport ME 04046 USA 18 Maine Street Kennebunkport ME 04046 United States;X-APPLE-RADIUS=500;X-TITLE=18 Maine Street:geo:-70.469411,43.34755
END:VEVENT
BEGIN:VEVENT
DTSTART;TZID=America/New_York:20241031T170000
DTEND;TZID=America/New_York:20241031T180000
DTSTAMP:20260424T225233
CREATED:20240918T185523Z
LAST-MODIFIED:20240918T185523Z
UID:10005371-1730394000-1730397600@graveslibrary.org
SUMMARY:EVENING BOOK GROUP - October 31
DESCRIPTION:Evening Book Group \nJoin us on Thursday\, October 31st\, for this month’s book group. All are welcome to attend. For October\, the group is reading Remarkably Bright Creatures by Shelby Van Pelt. \n \n  \n  \nPlease give us a call at 967-2778 for more information on this event and other upcoming reads. \n  \n\n  \n 
URL:https://graveslibrary.org/event/evening-book-group-october-31/
LOCATION:Louis T. Graves Memorial Public Library @ 18 Maine St\, Kennebunkport\, ME 04046\, USA\, 18 Maine Street\, Kennebunkport\, ME\, 04046\, United States
CATEGORIES:General Events
ORGANIZER;CN="Loretta Swift%2C Library Director":MAILTO:lbsgraves@gmail.com
GEO:43.34755;-70.469411
X-APPLE-STRUCTURED-LOCATION;VALUE=URI;X-ADDRESS=Louis T. Graves Memorial Public Library @ 18 Maine St Kennebunkport ME 04046 USA 18 Maine Street Kennebunkport ME 04046 United States;X-APPLE-RADIUS=500;X-TITLE=18 Maine Street:geo:-70.469411,43.34755
END:VEVENT
BEGIN:VEVENT
DTSTART;TZID=America/New_York:20241031T184500
DTEND;TZID=America/New_York:20241031T203000
DTSTAMP:20260424T225233
CREATED:20240918T185722Z
LAST-MODIFIED:20240918T185722Z
UID:10005372-1730400300-1730406600@graveslibrary.org
SUMMARY:MOVIE NIGHT AT GRAVES LIBRARY - OCTOBER 31 AT 6:45 PM
DESCRIPTION:Monthly Movie Night! Join us for a great night of theater\, snacks\, and friends in the Community Room. \nOne night a month\, the Library’s Community Room will transform into a movie theater. Meet up with your friends\, and snack on some popcorn! \n \n  \n  \n  \n  \n  \n  \n 
URL:https://graveslibrary.org/event/movie-night-at-graves-library-october-31-at-645-pm/
LOCATION:Louis T. Graves Memorial Public Library @ 18 Maine St\, Kennebunkport\, ME 04046\, USA\, 18 Maine Street\, Kennebunkport\, ME\, 04046\, United States
CATEGORIES:General Events
ORGANIZER;CN="Loretta Swift%2C Library Director":MAILTO:lbsgraves@gmail.com
GEO:43.34755;-70.469411
X-APPLE-STRUCTURED-LOCATION;VALUE=URI;X-ADDRESS=Louis T. Graves Memorial Public Library @ 18 Maine St Kennebunkport ME 04046 USA 18 Maine Street Kennebunkport ME 04046 United States;X-APPLE-RADIUS=500;X-TITLE=18 Maine Street:geo:-70.469411,43.34755
END:VEVENT
END:VCALENDAR