BEGIN:VCALENDAR
VERSION:2.0
PRODID:-//Louis T Graves Memorial Public Library - ECPv6.15.20//NONSGML v1.0//EN
CALSCALE:GREGORIAN
METHOD:PUBLISH
X-ORIGINAL-URL:https://graveslibrary.org
X-WR-CALDESC:Events for Louis T Graves Memorial Public Library
REFRESH-INTERVAL;VALUE=DURATION:PT1H
X-Robots-Tag:noindex
X-PUBLISHED-TTL:PT1H
BEGIN:VTIMEZONE
TZID:America/New_York
BEGIN:DAYLIGHT
TZOFFSETFROM:-0500
TZOFFSETTO:-0400
TZNAME:EDT
DTSTART:20240310T070000
END:DAYLIGHT
BEGIN:STANDARD
TZOFFSETFROM:-0400
TZOFFSETTO:-0500
TZNAME:EST
DTSTART:20241103T060000
END:STANDARD
BEGIN:DAYLIGHT
TZOFFSETFROM:-0500
TZOFFSETTO:-0400
TZNAME:EDT
DTSTART:20250309T070000
END:DAYLIGHT
BEGIN:STANDARD
TZOFFSETFROM:-0400
TZOFFSETTO:-0500
TZNAME:EST
DTSTART:20251102T060000
END:STANDARD
BEGIN:DAYLIGHT
TZOFFSETFROM:-0500
TZOFFSETTO:-0400
TZNAME:EDT
DTSTART:20260308T070000
END:DAYLIGHT
BEGIN:STANDARD
TZOFFSETFROM:-0400
TZOFFSETTO:-0500
TZNAME:EST
DTSTART:20261101T060000
END:STANDARD
END:VTIMEZONE
BEGIN:VEVENT
DTSTART;TZID=America/New_York:20251001T100000
DTEND;TZID=America/New_York:20251001T160000
DTSTAMP:20260422T164829
CREATED:20250917T185037Z
LAST-MODIFIED:20250917T185037Z
UID:10005964-1759312800-1759334400@graveslibrary.org
SUMMARY:CALLING ALL FUTURE ASTRONAUTS
DESCRIPTION:Calling All Future Astronauts! \nCome check out our space-tacular children’s department featuring all things space Wednesday\, October 1 through October 9! Out of this world crafts\, including glow in the dark constellations\, make yourself an astronaut\, and space suncatchers.  \n  \n  \nThe Louis T. Graves Memorial Public Library is located at 18 Maine Street\, Kennebunkport. For further information\, please call 207-967-2778 and ask for the Junior Room or visit www.graveslibrary.org.
URL:https://graveslibrary.org/event/calling-all-future-astronauts/
LOCATION:Louis T. Graves Memorial Public Library @ 18 Maine St\, Kennebunkport\, ME 04046\, USA\, 18 Maine Street\, Kennebunkport\, ME\, 04046\, United States
CATEGORIES:Kids And Teen Events
ORGANIZER;CN="Terri Bauld%2C Children's Librarian":MAILTO:tbbgraves@gmail.com
GEO:43.34755;-70.469411
X-APPLE-STRUCTURED-LOCATION;VALUE=URI;X-ADDRESS=Louis T. Graves Memorial Public Library @ 18 Maine St Kennebunkport ME 04046 USA 18 Maine Street Kennebunkport ME 04046 United States;X-APPLE-RADIUS=500;X-TITLE=18 Maine Street:geo:-70.469411,43.34755
END:VEVENT
BEGIN:VEVENT
DTSTART;TZID=America/New_York:20251003T100000
DTEND;TZID=America/New_York:20251003T113000
DTSTAMP:20260422T164829
CREATED:20250917T190023Z
LAST-MODIFIED:20250917T190023Z
UID:10005966-1759485600-1759491000@graveslibrary.org
SUMMARY:SPACE STORYTIME
DESCRIPTION:Space Themed Storytime is in the community room\, and everyone is welcome to Stay & Play at 10:45 AM. A storytime and crafts to go with all things space on Friday\, October 3\, at 10 AM. It’s going to be out of this world! \n  \n  \nThe Louis T. Graves Memorial Public Library is located at 18 Maine Street\, Kennebunkport. For further information\, please call 207-967-2778 and ask for the Junior Room or visit www.graveslibrary.org.
URL:https://graveslibrary.org/event/space-storytime/
LOCATION:Louis T. Graves Memorial Public Library @ 18 Maine St\, Kennebunkport\, ME 04046\, USA\, 18 Maine Street\, Kennebunkport\, ME\, 04046\, United States
CATEGORIES:Kids And Teen Events
ORGANIZER;CN="Terri Bauld%2C Children's Librarian":MAILTO:tbbgraves@gmail.com
GEO:43.34755;-70.469411
X-APPLE-STRUCTURED-LOCATION;VALUE=URI;X-ADDRESS=Louis T. Graves Memorial Public Library @ 18 Maine St Kennebunkport ME 04046 USA 18 Maine Street Kennebunkport ME 04046 United States;X-APPLE-RADIUS=500;X-TITLE=18 Maine Street:geo:-70.469411,43.34755
END:VEVENT
BEGIN:VEVENT
DTSTART;TZID=America/New_York:20251023T103000
DTEND;TZID=America/New_York:20251023T113000
DTSTAMP:20260422T164829
CREATED:20250917T192104Z
LAST-MODIFIED:20250917T192104Z
UID:10005974-1761215400-1761219000@graveslibrary.org
SUMMARY:PUMPKIN PATCH STORYTIME WITH MISS TERRI AT THE TROLLEY MUSEUM
DESCRIPTION:Pumpkin Patch Storytime with Miss Terri at the Seashore Trolley Museum \nAll aboard for stories\, songs\, pumpkin & model train event Thursday\, October 23\, at 10:30 AM. This adventure will include Pumpkin Patch Trolley\, pumpkin picking and pumpkin painting! Adults are $17\, Children ages 3-5 are $9\, with free admission for anyone 2 years old and younger. Miss Terri from the Graves Library will be the guest reader at the Trolley Museum\, sharing her favorite train stories. Following storytime\, we will all check out the fantastic model trains! This model layout is the largest HO-scale layout in the state of Maine. The Seashore Trolley Museum is located at 195 Log Cabin Road\, Kennebunkport. Please call 967-2800 ext. 105 for more information and to register.
URL:https://graveslibrary.org/event/pumpkin-patch-storytime-with-miss-terri-at-the-trolley-museum/
LOCATION:Louis T. Graves Memorial Public Library @ 18 Maine St\, Kennebunkport\, ME 04046\, USA\, 18 Maine Street\, Kennebunkport\, ME\, 04046\, United States
CATEGORIES:Kids And Teen Events
ORGANIZER;CN="Terri Bauld%2C Children's Librarian":MAILTO:tbbgraves@gmail.com
GEO:43.34755;-70.469411
X-APPLE-STRUCTURED-LOCATION;VALUE=URI;X-ADDRESS=Louis T. Graves Memorial Public Library @ 18 Maine St Kennebunkport ME 04046 USA 18 Maine Street Kennebunkport ME 04046 United States;X-APPLE-RADIUS=500;X-TITLE=18 Maine Street:geo:-70.469411,43.34755
END:VEVENT
BEGIN:VEVENT
DTSTART;TZID=America/New_York:20251024T100000
DTEND;TZID=America/New_York:20251024T110000
DTSTAMP:20260422T164829
CREATED:20250917T192355Z
LAST-MODIFIED:20250917T192355Z
UID:10005975-1761300000-1761303600@graveslibrary.org
SUMMARY:FURRY TALES STORYTIME
DESCRIPTION:Furry Tales Storytime \nWe are so excited to partner with the Animal Welfare Society of Kennebunk for a very special storytime on Friday\, October 24\, at 10 AM. Preschoolers and their families explore the exciting world of animals with stories\, playtime\, crafts\, songs\, movement\, and plenty of animal time. Each visit is a new adventure! \n \n  \nThe Louis T. Graves Memorial Public Library is located at 18 Maine Street\, Kennebunkport. For further information\, please call 967-2778 and ask for the Junior Room or visit www.graveslibrary.org.
URL:https://graveslibrary.org/event/furry-tales-storytime/
LOCATION:Louis T. Graves Memorial Public Library @ 18 Maine St\, Kennebunkport\, ME 04046\, USA\, 18 Maine Street\, Kennebunkport\, ME\, 04046\, United States
CATEGORIES:Kids And Teen Events
ORGANIZER;CN="Terri Bauld%2C Children's Librarian":MAILTO:tbbgraves@gmail.com
GEO:43.34755;-70.469411
X-APPLE-STRUCTURED-LOCATION;VALUE=URI;X-ADDRESS=Louis T. Graves Memorial Public Library @ 18 Maine St Kennebunkport ME 04046 USA 18 Maine Street Kennebunkport ME 04046 United States;X-APPLE-RADIUS=500;X-TITLE=18 Maine Street:geo:-70.469411,43.34755
END:VEVENT
BEGIN:VEVENT
DTSTART;TZID=America/New_York:20251031T100000
DTEND;TZID=America/New_York:20251031T110000
DTSTAMP:20260422T164829
CREATED:20250917T193346Z
LAST-MODIFIED:20250917T201252Z
UID:10005978-1761904800-1761908400@graveslibrary.org
SUMMARY:SPECIAL STORY TIME – HALLOWEEN COSTUME PARADE
DESCRIPTION:Please join us for a special costume story time on Friday\, October 31 at 10:00 a.m.  Stories\, songs\, and a craft in celebration of Halloween!  Wear your costume\, and march in our parade. \n \n  \nAll ages are welcome.  For more information\, please call the Library at 967-2778.
URL:https://graveslibrary.org/event/special-story-time-halloween-costume-parade-2/
LOCATION:Louis T. Graves Memorial Public Library @ 18 Maine St\, Kennebunkport\, ME 04046\, USA\, 18 Maine Street\, Kennebunkport\, ME\, 04046\, United States
CATEGORIES:Kids And Teen Events
ORGANIZER;CN="Terri Bauld%2C Children's Librarian":MAILTO:tbbgraves@gmail.com
GEO:43.34755;-70.469411
X-APPLE-STRUCTURED-LOCATION;VALUE=URI;X-ADDRESS=Louis T. Graves Memorial Public Library @ 18 Maine St Kennebunkport ME 04046 USA 18 Maine Street Kennebunkport ME 04046 United States;X-APPLE-RADIUS=500;X-TITLE=18 Maine Street:geo:-70.469411,43.34755
END:VEVENT
END:VCALENDAR