BEGIN:VCALENDAR
VERSION:2.0
PRODID:-//Louis T Graves Memorial Public Library - ECPv6.15.20//NONSGML v1.0//EN
CALSCALE:GREGORIAN
METHOD:PUBLISH
X-ORIGINAL-URL:https://graveslibrary.org
X-WR-CALDESC:Events for Louis T Graves Memorial Public Library
REFRESH-INTERVAL;VALUE=DURATION:PT1H
X-Robots-Tag:noindex
X-PUBLISHED-TTL:PT1H
BEGIN:VTIMEZONE
TZID:America/New_York
BEGIN:DAYLIGHT
TZOFFSETFROM:-0500
TZOFFSETTO:-0400
TZNAME:EDT
DTSTART:20240310T070000
END:DAYLIGHT
BEGIN:STANDARD
TZOFFSETFROM:-0400
TZOFFSETTO:-0500
TZNAME:EST
DTSTART:20241103T060000
END:STANDARD
BEGIN:DAYLIGHT
TZOFFSETFROM:-0500
TZOFFSETTO:-0400
TZNAME:EDT
DTSTART:20250309T070000
END:DAYLIGHT
BEGIN:STANDARD
TZOFFSETFROM:-0400
TZOFFSETTO:-0500
TZNAME:EST
DTSTART:20251102T060000
END:STANDARD
BEGIN:DAYLIGHT
TZOFFSETFROM:-0500
TZOFFSETTO:-0400
TZNAME:EDT
DTSTART:20260308T070000
END:DAYLIGHT
BEGIN:STANDARD
TZOFFSETFROM:-0400
TZOFFSETTO:-0500
TZNAME:EST
DTSTART:20261101T060000
END:STANDARD
END:VTIMEZONE
BEGIN:VEVENT
DTSTART;TZID=America/New_York:20251206T093000
DTEND;TZID=America/New_York:20251206T103000
DTSTAMP:20260421T081401
CREATED:20250922T174456Z
LAST-MODIFIED:20251117T162309Z
UID:10005982-1765013400-1765017000@graveslibrary.org
SUMMARY:"KITTYBUNKPORT" WITH AUTHOR SCOTT ROTHMAN - Registration required
DESCRIPTION:“Kittybunkport” Christmas with Author Scott Rothman\, 9:30 a.m. or 11:30 a.m. Registration Required \nReading of “Kittybunkport” by best-selling author Scott Rothman. Books will be available for sale and signing. Registration required\, please call 207-967-2778 to register for the 9:30 or 11:30 storytime. Seating is limited. Free event! \n \nSCOTT ROTHMAN is a writer of picture books\, screenplays\, theater\, and humor pieces. Scott’s debut picture book ATTACK OF THE UNDERWEAR DRAGON (Random House) and its sequel RETURN OF THE UNDERWEAR DRAGON were both National Indie bestsellers and are being developed into a musical kids TV series by Mercury Filmworks with best-selling illustrator Pete Oswald and Tony-award winning composer Bill Sherman.  \nHis most recent book KITTYBUNKPORT was featured on the TODAY SHOW and was selected by Jenna Bush Hager for her Summer Reading List. Scott’s book WARM AND FUZZY (Tundra\, illustrated by Brian Won) received a starred review from Booklist who called it a “fun and helpful read about overcoming anxieties.” \nScott’s other kid’s books include the Virginia Readers’ Choice finalist BLUE BISON NEEDS A HAIRCUT and BUBBLE GUM BISON NEEDS A BATH (Random House\, both illustrated by Pete Oswald)\, PARFAIT\, NOT PARFAIT (Roaring Brook Press\, illustrated by Avery Monsen)\, MAKO & TIGER: A SHARK’S TALE (Random House\, illustrated by Mika Song) and BASKETBALL TOWN (Candlewick Press\, illustrated by Darnell Johnson). He has six more books coming out in 2026.  \nA screenplay Scott co-wrote with playwright Rajiv Joseph\, DRAFT DAY\, topped the 2012 Black List before being made into a feature film directed by Ivan Reitman and starring Kevin Costner. In addition\, Scott co-wrote the script for the comedy ARMY OF ONE starring Nicolas Cage and directed by Larry Charles.  \nScott also wrote the book for the one-person musical TODD VS. THE TITANIC (music and lyrics by Murder for Two’s Joe Kinosian and Kellen Blair) which was produced by the Adirondack Theatre Festival and the Hangar Theatre. \nScott’s humor writing has appeared in The New Yorker\, GQ and McSweeney’s. He received an MFA in Dramatic Writing from NYU. – scottrothmanwriter.com \nLouis T. Graves Memorial Public Library\, 18 Maine Street\, Kennebunkport.
URL:https://graveslibrary.org/event/kittybunkport-with-author-scott-rothman/
LOCATION:Louis T. Graves Memorial Public Library @ 18 Maine St\, Kennebunkport\, ME 04046\, USA\, 18 Maine Street\, Kennebunkport\, ME\, 04046\, United States
CATEGORIES:Kids And Teen Events
GEO:43.34755;-70.469411
X-APPLE-STRUCTURED-LOCATION;VALUE=URI;X-ADDRESS=Louis T. Graves Memorial Public Library @ 18 Maine St Kennebunkport ME 04046 USA 18 Maine Street Kennebunkport ME 04046 United States;X-APPLE-RADIUS=500;X-TITLE=18 Maine Street:geo:-70.469411,43.34755
END:VEVENT
BEGIN:VEVENT
DTSTART;TZID=America/New_York:20251206T093000
DTEND;TZID=America/New_York:20251206T123000
DTSTAMP:20260421T081401
CREATED:20250922T174824Z
LAST-MODIFIED:20251126T170655Z
UID:10005983-1765013400-1765024200@graveslibrary.org
SUMMARY:KITTYLAND!
DESCRIPTION:Kittyland Events 9:30 a.m. – 12:30 p.m. \nKitty-themed fun\, photos with kitty\, face painting\, kitty ears\, cocoa to go\, whisker pull and more! Buy your tickets and choose which activities to do. Tickets are 4 for $20. Every dollar raised goes to the Louis T. Graves Memorial Public Library\, 18 Maine Street\, Kennebunkport. \n\n\n  \nThank you to our tiered sponsors! \nGold\n \nSilver\n \nAnd the generous event sponsors! \nBeachgrass\, Coastal Threads\, Parkhurst Dining at the University of New England\, Richard Stone \n  \n 
URL:https://graveslibrary.org/event/christmas-kitty/
LOCATION:Louis T. Graves Memorial Public Library @ 18 Maine St\, Kennebunkport\, ME 04046\, USA\, 18 Maine Street\, Kennebunkport\, ME\, 04046\, United States
CATEGORIES:Kids And Teen Events
GEO:43.34755;-70.469411
X-APPLE-STRUCTURED-LOCATION;VALUE=URI;X-ADDRESS=Louis T. Graves Memorial Public Library @ 18 Maine St Kennebunkport ME 04046 USA 18 Maine Street Kennebunkport ME 04046 United States;X-APPLE-RADIUS=500;X-TITLE=18 Maine Street:geo:-70.469411,43.34755
END:VEVENT
END:VCALENDAR