BEGIN:VCALENDAR
VERSION:2.0
PRODID:-//Louis T Graves Memorial Public Library - ECPv6.15.20//NONSGML v1.0//EN
CALSCALE:GREGORIAN
METHOD:PUBLISH
X-ORIGINAL-URL:https://graveslibrary.org
X-WR-CALDESC:Events for Louis T Graves Memorial Public Library
REFRESH-INTERVAL;VALUE=DURATION:PT1H
X-Robots-Tag:noindex
X-PUBLISHED-TTL:PT1H
BEGIN:VTIMEZONE
TZID:America/New_York
BEGIN:DAYLIGHT
TZOFFSETFROM:-0500
TZOFFSETTO:-0400
TZNAME:EDT
DTSTART:20230312T070000
END:DAYLIGHT
BEGIN:STANDARD
TZOFFSETFROM:-0400
TZOFFSETTO:-0500
TZNAME:EST
DTSTART:20231105T060000
END:STANDARD
BEGIN:DAYLIGHT
TZOFFSETFROM:-0500
TZOFFSETTO:-0400
TZNAME:EDT
DTSTART:20240310T070000
END:DAYLIGHT
BEGIN:STANDARD
TZOFFSETFROM:-0400
TZOFFSETTO:-0500
TZNAME:EST
DTSTART:20241103T060000
END:STANDARD
BEGIN:DAYLIGHT
TZOFFSETFROM:-0500
TZOFFSETTO:-0400
TZNAME:EDT
DTSTART:20250309T070000
END:DAYLIGHT
BEGIN:STANDARD
TZOFFSETFROM:-0400
TZOFFSETTO:-0500
TZNAME:EST
DTSTART:20251102T060000
END:STANDARD
END:VTIMEZONE
BEGIN:VEVENT
DTSTART;TZID=America/New_York:20240209T093000
DTEND;TZID=America/New_York:20240209T123000
DTSTAMP:20260423T023049
CREATED:20221116T162326Z
LAST-MODIFIED:20240118T153935Z
UID:10003259-1707471000-1707481800@graveslibrary.org
SUMMARY:RED TAG SALE - BOOK CELLAR FEBRUARY 9 & 10
DESCRIPTION:Friday\, February 9 & Saturday\, February 10 from 9:30-12:30 Red Tag Sale in the Book Cellar. Come treasure hunting in the book sale\, new items are added weekly. The Library is located at 18 Maine Street\, Kennebunkport\, and is open Monday-Friday 9:30-5:00\, and Saturdays 9:30-12:30. For further information\, please call 967-2778 or visit our website at www.graveslibrary.org. \n \n 
URL:https://graveslibrary.org/event/red-tag-sale-book-cellar/
LOCATION:Louis T. Graves Memorial Public Library @ 18 Maine St\, Kennebunkport\, ME 04046\, USA\, 18 Maine Street\, Kennebunkport\, ME\, 04046\, United States
CATEGORIES:General Events
GEO:43.34755;-70.469411
X-APPLE-STRUCTURED-LOCATION;VALUE=URI;X-ADDRESS=Louis T. Graves Memorial Public Library @ 18 Maine St Kennebunkport ME 04046 USA 18 Maine Street Kennebunkport ME 04046 United States;X-APPLE-RADIUS=500;X-TITLE=18 Maine Street:geo:-70.469411,43.34755
END:VEVENT
END:VCALENDAR