BEGIN:VCALENDAR
VERSION:2.0
PRODID:-//Louis T Graves Memorial Public Library - ECPv6.15.20//NONSGML v1.0//EN
CALSCALE:GREGORIAN
METHOD:PUBLISH
X-ORIGINAL-URL:https://graveslibrary.org
X-WR-CALDESC:Events for Louis T Graves Memorial Public Library
REFRESH-INTERVAL;VALUE=DURATION:PT1H
X-Robots-Tag:noindex
X-PUBLISHED-TTL:PT1H
BEGIN:VTIMEZONE
TZID:America/New_York
BEGIN:DAYLIGHT
TZOFFSETFROM:-0500
TZOFFSETTO:-0400
TZNAME:EDT
DTSTART:20230312T070000
END:DAYLIGHT
BEGIN:STANDARD
TZOFFSETFROM:-0400
TZOFFSETTO:-0500
TZNAME:EST
DTSTART:20231105T060000
END:STANDARD
BEGIN:DAYLIGHT
TZOFFSETFROM:-0500
TZOFFSETTO:-0400
TZNAME:EDT
DTSTART:20240310T070000
END:DAYLIGHT
BEGIN:STANDARD
TZOFFSETFROM:-0400
TZOFFSETTO:-0500
TZNAME:EST
DTSTART:20241103T060000
END:STANDARD
BEGIN:DAYLIGHT
TZOFFSETFROM:-0500
TZOFFSETTO:-0400
TZNAME:EDT
DTSTART:20250309T070000
END:DAYLIGHT
BEGIN:STANDARD
TZOFFSETFROM:-0400
TZOFFSETTO:-0500
TZNAME:EST
DTSTART:20251102T060000
END:STANDARD
END:VTIMEZONE
BEGIN:VEVENT
DTSTART;TZID=America/New_York:20240102T111500
DTEND;TZID=America/New_York:20240102T114500
DTSTAMP:20260424T123920
CREATED:20231214T154952Z
LAST-MODIFIED:20231214T154952Z
UID:10005012-1704194100-1704195900@graveslibrary.org
SUMMARY:TECHNOLOGY CLASS
DESCRIPTION:Tired of feeling overwhelmed by technology? Come to our tiny tech class on Tuesday\, January 2 at 11:15 a.m. in the Community Room. \nWe will cover a small topic leaving plenty of time for questions and practice! In January we will explore how to clean up our email for 2024. \n \n  \nFor further information\, please call 967-2778.
URL:https://graveslibrary.org/event/technology-class-3/
LOCATION:Louis T. Graves Memorial Public Library @ 18 Maine St\, Kennebunkport\, ME 04046\, USA\, 18 Maine Street\, Kennebunkport\, ME\, 04046\, United States
CATEGORIES:General Events
ORGANIZER;CN="Loretta Swift%2C Library Director":MAILTO:lbsgraves@gmail.com
GEO:43.34755;-70.469411
X-APPLE-STRUCTURED-LOCATION;VALUE=URI;X-ADDRESS=Louis T. Graves Memorial Public Library @ 18 Maine St Kennebunkport ME 04046 USA 18 Maine Street Kennebunkport ME 04046 United States;X-APPLE-RADIUS=500;X-TITLE=18 Maine Street:geo:-70.469411,43.34755
END:VEVENT
BEGIN:VEVENT
DTSTART;TZID=America/New_York:20240117T090000
DTEND;TZID=America/New_York:20240117T100000
DTSTAMP:20260424T123920
CREATED:20231214T165851Z
LAST-MODIFIED:20231214T165851Z
UID:10005031-1705482000-1705485600@graveslibrary.org
SUMMARY:DEATH CAFE - DON'T  LET THE NAME SCARE YOU
DESCRIPTION:Please join us for our  Death Café – Community\, Conversation\, and Coffee. We will be meeting in the Community Room on Wednesday\, January 17th at 9:00 a.m. \nWhat is a Death Café? A Death Café is a safe and relaxed space to gather with people to discuss topics related to death and dying. The objective is to engage in interesting\, thought-provoking\, and life-affirming conversations. Please join us for this community conversation. Registration is required. \nFacilitated by:  Marilyn R. Gugliucci\, MA\, Ph.D.\, AGHEF\, GSAF\, AGSF\, NAOMEF\, Professor and Director of Geriatric Education and Research at the University of New England. \nHosted by:  Kennebunkport Public Health Department and Graves Library. Please call (207) 967-2778 to register.
URL:https://graveslibrary.org/event/death-cafe-dont-let-the-name-scare-you-6/
LOCATION:Louis T. Graves Memorial Public Library @ 18 Maine St\, Kennebunkport\, ME 04046\, USA\, 18 Maine Street\, Kennebunkport\, ME\, 04046\, United States
CATEGORIES:General Events
ORGANIZER;CN="Loretta Swift%2C Library Director":MAILTO:lbsgraves@gmail.com
GEO:43.34755;-70.469411
X-APPLE-STRUCTURED-LOCATION;VALUE=URI;X-ADDRESS=Louis T. Graves Memorial Public Library @ 18 Maine St Kennebunkport ME 04046 USA 18 Maine Street Kennebunkport ME 04046 United States;X-APPLE-RADIUS=500;X-TITLE=18 Maine Street:geo:-70.469411,43.34755
END:VEVENT
BEGIN:VEVENT
DTSTART;TZID=America/New_York:20240123T151500
DTEND;TZID=America/New_York:20240123T160000
DTSTAMP:20260424T123920
CREATED:20231214T171446Z
LAST-MODIFIED:20231214T171446Z
UID:10005034-1706022900-1706025600@graveslibrary.org
SUMMARY:LEGO MADNESS
DESCRIPTION:Lego Madness will take place on Tuesday\, January 23 at 3:15 PM \nBring your imagination for an hour of fun. Imagine\, Build\, Create! Unstructured build time will be followed by a group-building challenge and game. \n \nThis program is for elementary-aged students. Please give us a call to register at 967-2778.
URL:https://graveslibrary.org/event/lego-madness-2/
LOCATION:Louis T. Graves Memorial Public Library @ 18 Maine St\, Kennebunkport\, ME 04046\, USA\, 18 Maine Street\, Kennebunkport\, ME\, 04046\, United States
CATEGORIES:Kids And Teen Events
ORGANIZER;CN="Terri Bauld%2C Children's Librarian":MAILTO:tbbgraves@gmail.com
GEO:43.34755;-70.469411
X-APPLE-STRUCTURED-LOCATION;VALUE=URI;X-ADDRESS=Louis T. Graves Memorial Public Library @ 18 Maine St Kennebunkport ME 04046 USA 18 Maine Street Kennebunkport ME 04046 United States;X-APPLE-RADIUS=500;X-TITLE=18 Maine Street:geo:-70.469411,43.34755
END:VEVENT
BEGIN:VEVENT
DTSTART;TZID=America/New_York:20240125T170000
DTEND;TZID=America/New_York:20240125T180000
DTSTAMP:20260424T123920
CREATED:20231214T171921Z
LAST-MODIFIED:20231214T171921Z
UID:10005035-1706202000-1706205600@graveslibrary.org
SUMMARY:EVENING BOOK GROUP
DESCRIPTION:Evening Book Group \nJoin us on Thursday\, January 25th for this month’s book group. For this session\, we will be choosing the 2024 line up. Your nomination must be a book you have read. All are welcome to attend. \n \n  \nPlease give us a call at 967-2778 for more information on this event and other upcoming reads. \n  \n\n  \n 
URL:https://graveslibrary.org/event/evening-book-group-25/
LOCATION:Louis T. Graves Memorial Public Library @ 18 Maine St\, Kennebunkport\, ME 04046\, USA\, 18 Maine Street\, Kennebunkport\, ME\, 04046\, United States
CATEGORIES:General Events
ORGANIZER;CN="Loretta Swift%2C Library Director":MAILTO:lbsgraves@gmail.com
GEO:43.34755;-70.469411
X-APPLE-STRUCTURED-LOCATION;VALUE=URI;X-ADDRESS=Louis T. Graves Memorial Public Library @ 18 Maine St Kennebunkport ME 04046 USA 18 Maine Street Kennebunkport ME 04046 United States;X-APPLE-RADIUS=500;X-TITLE=18 Maine Street:geo:-70.469411,43.34755
END:VEVENT
BEGIN:VEVENT
DTSTART;TZID=America/New_York:20240125T184500
DTEND;TZID=America/New_York:20240125T203000
DTSTAMP:20260424T123920
CREATED:20231214T172204Z
LAST-MODIFIED:20231214T172204Z
UID:10005036-1706208300-1706214600@graveslibrary.org
SUMMARY:MONTHLY MOVIE NIGHT AT GRAVES LIBRARY
DESCRIPTION:Monthly Movie Night!  Join us for a great night of theater\, snacks\, and friends on Thursday\, January 25 at 6:45 PM in the Community Room. \nJoin us for our monthly movie night. All are welcome to attend. Light refreshments will be served. \n \nFilm discussion and educational opportunity. The Louis T. Graves Memorial Public Library is located at 18 Maine Street\, Kennebunkport. For further information\, please call 967-2778 or visit our website at www.graveslibrary.org. \n  \n  \n  \n  \n  \n  \n 
URL:https://graveslibrary.org/event/monthly-movie-night-at-graves-library-12/
LOCATION:Louis T. Graves Memorial Public Library @ 18 Maine St\, Kennebunkport\, ME 04046\, USA\, 18 Maine Street\, Kennebunkport\, ME\, 04046\, United States
CATEGORIES:General Events
ORGANIZER;CN="Loretta Swift%2C Library Director":MAILTO:lbsgraves@gmail.com
GEO:43.34755;-70.469411
X-APPLE-STRUCTURED-LOCATION;VALUE=URI;X-ADDRESS=Louis T. Graves Memorial Public Library @ 18 Maine St Kennebunkport ME 04046 USA 18 Maine Street Kennebunkport ME 04046 United States;X-APPLE-RADIUS=500;X-TITLE=18 Maine Street:geo:-70.469411,43.34755
END:VEVENT
END:VCALENDAR