BEGIN:VCALENDAR
VERSION:2.0
PRODID:-//Louis T Graves Memorial Public Library - ECPv6.15.20//NONSGML v1.0//EN
CALSCALE:GREGORIAN
METHOD:PUBLISH
X-WR-CALNAME:Louis T Graves Memorial Public Library
X-ORIGINAL-URL:https://graveslibrary.org
X-WR-CALDESC:Events for Louis T Graves Memorial Public Library
REFRESH-INTERVAL;VALUE=DURATION:PT1H
X-Robots-Tag:noindex
X-PUBLISHED-TTL:PT1H
BEGIN:VTIMEZONE
TZID:America/New_York
BEGIN:DAYLIGHT
TZOFFSETFROM:-0500
TZOFFSETTO:-0400
TZNAME:EDT
DTSTART:20240310T070000
END:DAYLIGHT
BEGIN:STANDARD
TZOFFSETFROM:-0400
TZOFFSETTO:-0500
TZNAME:EST
DTSTART:20241103T060000
END:STANDARD
BEGIN:DAYLIGHT
TZOFFSETFROM:-0500
TZOFFSETTO:-0400
TZNAME:EDT
DTSTART:20250309T070000
END:DAYLIGHT
BEGIN:STANDARD
TZOFFSETFROM:-0400
TZOFFSETTO:-0500
TZNAME:EST
DTSTART:20251102T060000
END:STANDARD
BEGIN:DAYLIGHT
TZOFFSETFROM:-0500
TZOFFSETTO:-0400
TZNAME:EDT
DTSTART:20260308T070000
END:DAYLIGHT
BEGIN:STANDARD
TZOFFSETFROM:-0400
TZOFFSETTO:-0500
TZNAME:EST
DTSTART:20261101T060000
END:STANDARD
END:VTIMEZONE
BEGIN:VEVENT
DTSTART;TZID=America/New_York:20250517T150000
DTEND;TZID=America/New_York:20250517T163000
DTSTAMP:20260425T075055
CREATED:20250125T193611Z
LAST-MODIFIED:20250422T220428Z
UID:10005612-1747494000-1747499400@graveslibrary.org
SUMMARY:NEW ENGLAND AUTHOR - JESSICA SHATTUCK - MAY 17 @ 3:00 PM
DESCRIPTION:As part of the Patsy Bray Mahoney Lecture Series\, we are pleased to welcome Jessica Shattuck to the Louis T. Graves Memorial Public Library on Saturday\, May 17 at 3:00 pm.  Ms. Shattuck will read from her latest book Last House (William Morrow\, May 2024) and talk about the writing process. \n \nJessica Shattuck is The New York Times Bestselling author of the novels Last House (William Morrow\, May 2024)\, The Women in the Castle (William Morrow 2017)\, a New York Times Bestseller\, #1 Indie Next Pick\, and winner of The New England Book Award; Perfect Life (W.W.Norton 2009) and The Hazards of Good Breeding (W.W.Norton 2003) which was a New York Times Notable Book\, a Boston Globe Editor’s Choice Best Book of the Year\, and a finalist for the 2003 PEN/Winship Award.  Her fiction has appeared in The New Yorker\, Guernica\, Glamour\, Open City\, and The Tampa Review among other publications.  Her other writing has appeared in The New York Times\, LitHub\, Electric Literature\, Wired\, The Believer Magazine\, and The Boston Globe.  She lives in Massachusetts with her husband and three children. \nRefreshments will be provided by the Graves Library Snack Team.  Copies of the book will be for sale and signing after the program.  The Library is located at 18 Maine Street\, Kennebunkport\, Maine.  Please call the Library (967-2778) with any questions.  Additional parking available at Kennebunkport Consolidated School (Route 9) and Fire Department Parking Lot (North Street). \nWe hope you will join us for this very special afternoon. \n 
URL:https://graveslibrary.org/event/new-england-author-jessica-shattuck-may-17-200-pm/
LOCATION:Louis T. Graves Memorial Public Library @ 18 Maine St\, Kennebunkport\, ME 04046\, USA\, 18 Maine Street\, Kennebunkport\, ME\, 04046\, United States
CATEGORIES:General Events
ORGANIZER;CN="Loretta Swift%2C Library Director":MAILTO:lbsgraves@gmail.com
GEO:43.34755;-70.469411
X-APPLE-STRUCTURED-LOCATION;VALUE=URI;X-ADDRESS=Louis T. Graves Memorial Public Library @ 18 Maine St Kennebunkport ME 04046 USA 18 Maine Street Kennebunkport ME 04046 United States;X-APPLE-RADIUS=500;X-TITLE=18 Maine Street:geo:-70.469411,43.34755
END:VEVENT
BEGIN:VEVENT
DTSTART;TZID=America/New_York:20250521T090000
DTEND;TZID=America/New_York:20250521T100000
DTSTAMP:20260425T075055
CREATED:20250422T184256Z
LAST-MODIFIED:20250429T124800Z
UID:10005691-1747818000-1747821600@graveslibrary.org
SUMMARY:COMMUNITY CONNECTIONS - WEDNESDAY\, MAY 21 @ 9:00 AM
DESCRIPTION:We invite you to join us for our  “Community Connections” session. Library staff will be here to share Library resources. Light refreshments will be provided! \nFollowing this event\, each month will bring a new member of our Town’s government to share updates and essential information. For further details about Community Connections\, please contact the Library at 207-967-2778.  The Library is located at 18 Maine Street\, Kennebunkport.
URL:https://graveslibrary.org/event/community-connections-wednesday-may-21-900-am/
LOCATION:Louis T. Graves Memorial Public Library @ 18 Maine St\, Kennebunkport\, ME 04046\, USA\, 18 Maine Street\, Kennebunkport\, ME\, 04046\, United States
CATEGORIES:General Events
ORGANIZER;CN="Loretta Swift%2C Library Director":MAILTO:lbsgraves@gmail.com
GEO:43.34755;-70.469411
X-APPLE-STRUCTURED-LOCATION;VALUE=URI;X-ADDRESS=Louis T. Graves Memorial Public Library @ 18 Maine St Kennebunkport ME 04046 USA 18 Maine Street Kennebunkport ME 04046 United States;X-APPLE-RADIUS=500;X-TITLE=18 Maine Street:geo:-70.469411,43.34755
END:VEVENT
BEGIN:VEVENT
DTSTART;TZID=America/New_York:20250522T170000
DTEND;TZID=America/New_York:20250522T190000
DTSTAMP:20260425T075055
CREATED:20250422T192127Z
LAST-MODIFIED:20250505T191525Z
UID:10005694-1747933200-1747940400@graveslibrary.org
SUMMARY:WINE TASTING & ART RAFFLE ~ MAY 22 @ 5:00 PM
DESCRIPTION:Join us on Thursday\, May 22 at 5:00 p.m. for a very special wine tasting and unveiling of the art for our raffle fundraiser.\n\nLocal wine experts Lani Dietz and Betsy Ross will guide us through the program with ideas\, pairings\, and educational tidbits of the selected wines from around the globe.\n\n    \nA suggested donation for this program is $30 pp. Please call the Library 207-967-2778 to register; space is limited for this event. \nOne hundred percent of the proceeds will benefit Graves Library.\nYou Won’t Want to Miss it!\n\n\n\n\n\n\nThe print for the raffle is by Gretchen Huber. Gretchen Huber Warren has been exhibiting her work in galleries nationwide for over four decades. She has sold over 950 original pieces to collectors and corporations. She has participated in a wide variety of nationally juried shows. She also licenses her images for reproduction as limited edition prints\, calendars\, cards\, and puzzles. Locally\, her work has been displayed at The Wright Gallery in Cape Porpoise since 1986.\n\nGretchen’s oil paintings showcase an illustrator’s storytelling ability combined with an artist’s eye for composition and beauty. Gretchen’s paintings are distinguished by vibrant colors\, striking light effects\, and clear lines\, giving them immediacy and a sense of presence. She enjoys capturing interesting scenes\, whether they are a bucket of flowers\, frogs in a pond\, or a vintage gas station.
URL:https://graveslibrary.org/event/wine-tasting-art-raffle-may-22-500-pm/
LOCATION:Louis T. Graves Memorial Public Library @ 18 Maine St\, Kennebunkport\, ME 04046\, USA\, 18 Maine Street\, Kennebunkport\, ME\, 04046\, United States
CATEGORIES:General Events,News
GEO:43.34755;-70.469411
X-APPLE-STRUCTURED-LOCATION;VALUE=URI;X-ADDRESS=Louis T. Graves Memorial Public Library @ 18 Maine St Kennebunkport ME 04046 USA 18 Maine Street Kennebunkport ME 04046 United States;X-APPLE-RADIUS=500;X-TITLE=18 Maine Street:geo:-70.469411,43.34755
END:VEVENT
BEGIN:VEVENT
DTSTART;TZID=America/New_York:20250528T090000
DTEND;TZID=America/New_York:20250528T100000
DTSTAMP:20260425T075055
CREATED:20250422T184810Z
LAST-MODIFIED:20250429T124624Z
UID:10005693-1748422800-1748426400@graveslibrary.org
SUMMARY:DEATH CAFE - WEDNESDAY\, MAY 28 @ 9:00 AM
DESCRIPTION:Please join us for our  Death Café – Community\, Conversation\, and Coffee. We will be meeting in the Community Room from 9:00 to 10:00 a.m. \nWhat is a Death Café? A Death Café is a safe and relaxed space to gather with people to discuss topics related to death and dying. The objective is to engage in interesting\, thought-provoking\, and life-affirming conversations. Please join us for this community conversation. Registration is required. \nFacilitated by: Marilyn R. Gugliucci\, MA\, Ph.D.\, AGHEF\, GSAF\, AGSF\, NAOMEF\, Professor and Director of Geriatric Education and Research at the University of New England. \nHosted by: Kennebunkport Public Health Department and Graves Library. Please call (207) 967-2778 to register. Space is limited.
URL:https://graveslibrary.org/event/death-cafe-wednesday-may-28-900-am/
LOCATION:Louis T. Graves Memorial Public Library @ 18 Maine St\, Kennebunkport\, ME 04046\, USA\, 18 Maine Street\, Kennebunkport\, ME\, 04046\, United States
CATEGORIES:General Events
ORGANIZER;CN="Loretta Swift%2C Library Director":MAILTO:lbsgraves@gmail.com
GEO:43.34755;-70.469411
X-APPLE-STRUCTURED-LOCATION;VALUE=URI;X-ADDRESS=Louis T. Graves Memorial Public Library @ 18 Maine St Kennebunkport ME 04046 USA 18 Maine Street Kennebunkport ME 04046 United States;X-APPLE-RADIUS=500;X-TITLE=18 Maine Street:geo:-70.469411,43.34755
END:VEVENT
BEGIN:VEVENT
DTSTART;TZID=America/New_York:20250529T170000
DTEND;TZID=America/New_York:20250529T180000
DTSTAMP:20260425T075055
CREATED:20250404T155158Z
LAST-MODIFIED:20250429T124605Z
UID:10005681-1748538000-1748541600@graveslibrary.org
SUMMARY:EVENING BOOK GROUP - MAY 29 @ 5:00 PM
DESCRIPTION:Evening Book Group \nJoin us on Thursday\, May 29\, at 5:00 p.m. for this month’s book group. The book this month is James by Percival Everett. All are welcome to attend. \n  \n \nPlease give us a call at 207-967-2778 for more information on this event and other upcoming reads. \n  \n\n  \n 
URL:https://graveslibrary.org/event/evening-book-group-may-29-500-pm/
LOCATION:Louis T. Graves Memorial Public Library @ 18 Maine St\, Kennebunkport\, ME 04046\, USA\, 18 Maine Street\, Kennebunkport\, ME\, 04046\, United States
CATEGORIES:General Events
ORGANIZER;CN="Loretta Swift%2C Library Director":MAILTO:lbsgraves@gmail.com
GEO:43.34755;-70.469411
X-APPLE-STRUCTURED-LOCATION;VALUE=URI;X-ADDRESS=Louis T. Graves Memorial Public Library @ 18 Maine St Kennebunkport ME 04046 USA 18 Maine Street Kennebunkport ME 04046 United States;X-APPLE-RADIUS=500;X-TITLE=18 Maine Street:geo:-70.469411,43.34755
END:VEVENT
BEGIN:VEVENT
DTSTART;TZID=America/New_York:20250529T184500
DTEND;TZID=America/New_York:20250529T203000
DTSTAMP:20260425T075055
CREATED:20250404T155719Z
LAST-MODIFIED:20250429T124542Z
UID:10005682-1748544300-1748550600@graveslibrary.org
SUMMARY:MOVIE NIGHT AT GRAVES LIBRARY - MAY 29 @ 6:45 PM
DESCRIPTION:We hope you will join us in the Community Room for our monthly movie night! Bring your family and friends\, it’s always a fun time. Enjoy beverages and popcorn. Let us know if you have any questions 207-967-2778. \n  \n \n  \n  \n  \n  \n  \n  \n 
URL:https://graveslibrary.org/event/movie-night-at-graves-library-may-645-pm/
LOCATION:Louis T. Graves Memorial Public Library @ 18 Maine St\, Kennebunkport\, ME 04046\, USA\, 18 Maine Street\, Kennebunkport\, ME\, 04046\, United States
CATEGORIES:General Events
ORGANIZER;CN="Loretta Swift%2C Library Director":MAILTO:lbsgraves@gmail.com
GEO:43.34755;-70.469411
X-APPLE-STRUCTURED-LOCATION;VALUE=URI;X-ADDRESS=Louis T. Graves Memorial Public Library @ 18 Maine St Kennebunkport ME 04046 USA 18 Maine Street Kennebunkport ME 04046 United States;X-APPLE-RADIUS=500;X-TITLE=18 Maine Street:geo:-70.469411,43.34755
END:VEVENT
END:VCALENDAR