BEGIN:VCALENDAR
VERSION:2.0
PRODID:-//Louis T Graves Memorial Public Library - ECPv6.15.20//NONSGML v1.0//EN
CALSCALE:GREGORIAN
METHOD:PUBLISH
X-ORIGINAL-URL:https://graveslibrary.org
X-WR-CALDESC:Events for Louis T Graves Memorial Public Library
REFRESH-INTERVAL;VALUE=DURATION:PT1H
X-Robots-Tag:noindex
X-PUBLISHED-TTL:PT1H
BEGIN:VTIMEZONE
TZID:America/New_York
BEGIN:DAYLIGHT
TZOFFSETFROM:-0500
TZOFFSETTO:-0400
TZNAME:EDT
DTSTART:20240310T070000
END:DAYLIGHT
BEGIN:STANDARD
TZOFFSETFROM:-0400
TZOFFSETTO:-0500
TZNAME:EST
DTSTART:20241103T060000
END:STANDARD
BEGIN:DAYLIGHT
TZOFFSETFROM:-0500
TZOFFSETTO:-0400
TZNAME:EDT
DTSTART:20250309T070000
END:DAYLIGHT
BEGIN:STANDARD
TZOFFSETFROM:-0400
TZOFFSETTO:-0500
TZNAME:EST
DTSTART:20251102T060000
END:STANDARD
BEGIN:DAYLIGHT
TZOFFSETFROM:-0500
TZOFFSETTO:-0400
TZNAME:EDT
DTSTART:20260308T070000
END:DAYLIGHT
BEGIN:STANDARD
TZOFFSETFROM:-0400
TZOFFSETTO:-0500
TZNAME:EST
DTSTART:20261101T060000
END:STANDARD
END:VTIMEZONE
BEGIN:VEVENT
DTSTART;TZID=America/New_York:20250605T180000
DTEND;TZID=America/New_York:20250605T190000
DTSTAMP:20260425T081211
CREATED:20250414T194741Z
LAST-MODIFIED:20250429T124450Z
UID:10005684-1749146400-1749150000@graveslibrary.org
SUMMARY:LOCAL AUTHOR - ALBERT WAITT - THURSDAY\, JUNE 5 @ 6:00 PM
DESCRIPTION:We are so thrilled to welcome back local author and friend of Graves Library Albert Waitt on Thursday\, June 5 @ 6:00 pm.  Mr. Waitt will be reading from his new book Springbrookville\, the third in his LT Nichols mystery series.  Copies of the book will be for sale and signing after the reading. \n \n  \nThe first in the series\, The Ruins of Woodman’s Village\, was published in 2023\, followed by Flood Tide in 2024.  Waitt is a graduate of Bates College and the Creative Writing Program at Boston University.  His short fiction has appeared in The Literary Review\, Third Coast\, The Beloit Fiction Journal\, Words and Images\, and other publications.  His first novel\, Summer to Fall was published in 2013 by Barrel Fire Press. \n  \nThe Louis T. Graves Memorial Public Library is at 18 Maine Street\, Kennebunkport. For further information\, please call 207-967-2778 or visit our website at www.graveslibrary.org. \n 
URL:https://graveslibrary.org/event/local-author-albert-waitt-thursday-june-5-600-pm/
LOCATION:Louis T. Graves Memorial Public Library @ 18 Maine St\, Kennebunkport\, ME 04046\, USA\, 18 Maine Street\, Kennebunkport\, ME\, 04046\, United States
CATEGORIES:General Events,News
ORGANIZER;CN="Loretta Swift%2C Library Director":MAILTO:lbsgraves@gmail.com
GEO:43.34755;-70.469411
X-APPLE-STRUCTURED-LOCATION;VALUE=URI;X-ADDRESS=Louis T. Graves Memorial Public Library @ 18 Maine St Kennebunkport ME 04046 USA 18 Maine Street Kennebunkport ME 04046 United States;X-APPLE-RADIUS=500;X-TITLE=18 Maine Street:geo:-70.469411,43.34755
END:VEVENT
BEGIN:VEVENT
DTSTART;TZID=America/New_York:20250612T173000
DTEND;TZID=America/New_York:20250612T183000
DTSTAMP:20260425T081211
CREATED:20250520T194337Z
LAST-MODIFIED:20250520T200402Z
UID:10005739-1749749400-1749753000@graveslibrary.org
SUMMARY:OSHER LIFELONG LEARNING INSTITUTE INFORMATIONAL SESSION
DESCRIPTION:Osher Lifelong Learning Institute Informational Session \nWe are very excited to welcome members of OLLI (Osher Lifelong Learning Institute) to Graves Library on Thursday\, June 12\, at 5:30 PM to give us an overview of the upcoming courses and workshops offered at the University of Southern Maine campus in Portland. These courses are offered to anyone over the age of 50 with a curious mind and an interest in learning just for the joy of it. OLLI at USM is committed to providing its members with a wide variety of stimulating courses\, lectures\, workshops\, and complementary activities in a creative\, inclusive environment. \n \n  \nThe Louis T. Graves Memorial Public Library is located at 18 Maine Street\, Kennebunkport. For further information\, please call 207-967-2778 or visit our website at www.graveslibrary.org. \n  \n\n  \n 
URL:https://graveslibrary.org/event/osher-lifelong-learning-institute-informational-session/
LOCATION:Louis T. Graves Memorial Public Library @ 18 Maine St\, Kennebunkport\, ME 04046\, USA\, 18 Maine Street\, Kennebunkport\, ME\, 04046\, United States
CATEGORIES:General Events
ORGANIZER;CN="Loretta Swift%2C Library Director":MAILTO:lbsgraves@gmail.com
GEO:43.34755;-70.469411
X-APPLE-STRUCTURED-LOCATION;VALUE=URI;X-ADDRESS=Louis T. Graves Memorial Public Library @ 18 Maine St Kennebunkport ME 04046 USA 18 Maine Street Kennebunkport ME 04046 United States;X-APPLE-RADIUS=500;X-TITLE=18 Maine Street:geo:-70.469411,43.34755
END:VEVENT
BEGIN:VEVENT
DTSTART;TZID=America/New_York:20250617T173000
DTEND;TZID=America/New_York:20250617T190000
DTSTAMP:20260425T081211
CREATED:20250604T175445Z
LAST-MODIFIED:20250612T164735Z
UID:10005748-1750181400-1750186800@graveslibrary.org
SUMMARY:A DOUBLE EXPOSURE - BOOK LAUNCH - JUNE 17 @ 5:30 PM
DESCRIPTION:A “DOUBLE EXPOSURE” – BOOK LAUNCH – JUNE 17 @ 5:30 PM\n\nWe are so excited to welcome Bob Dennis and Jim Groleau to Graves Library on Tuesday\, June 17 @ 5:30 pm for a special book launch of their joint venture\, Cape Porpoise\, Portrait of a Maine Fishing Village.  Bob and Jim will be here to sell and sign copies of their book that is hitting store shelves now!  This 84-page keepsake is filled with 130 color photos of sunrises\, sunsets\, and seasons.  We hope you will join us for this special event!\n\n\n\nBob and Jim are not just good friends.  Both began pursuing their passion for photography after successful careers in the business world.  After living most of their lives in other New England states\, both chose Kennebunkport.  Bob Dennis has been active in photography for several decades and has published 25 annual Kennebunkport calendars and several books.  Since beginning to show his photos in recent years\, Jim Groleau has gained an enthusiastic following for his work and displays his photos in local galleries.\n\nThe photographers love shooting all over Kennebunkport and in other parts of Maine but they have a special passion for their hometown of Cape Porpoise.  They appreciate and respect the villages’ long and glorious maritime traditions.  Whether it is the dazzling sunrises and sunsets\, the lobster boats in the harbor\, the majesty of Goat Island Light\, or the colorful changing of the seasons\, Bob and Jim are there to capture the beauty throughout the year.
URL:https://graveslibrary.org/event/a-double-exposure-book-launch-june-17-530-pm/
LOCATION:Louis T. Graves Memorial Public Library @ 18 Maine St\, Kennebunkport\, ME 04046\, USA\, 18 Maine Street\, Kennebunkport\, ME\, 04046\, United States
CATEGORIES:General Events
GEO:43.34755;-70.469411
X-APPLE-STRUCTURED-LOCATION;VALUE=URI;X-ADDRESS=Louis T. Graves Memorial Public Library @ 18 Maine St Kennebunkport ME 04046 USA 18 Maine Street Kennebunkport ME 04046 United States;X-APPLE-RADIUS=500;X-TITLE=18 Maine Street:geo:-70.469411,43.34755
END:VEVENT
BEGIN:VEVENT
DTSTART;TZID=America/New_York:20250626T170000
DTEND;TZID=America/New_York:20250626T180000
DTSTAMP:20260425T081211
CREATED:20250516T153736Z
LAST-MODIFIED:20250516T153736Z
UID:10005735-1750957200-1750960800@graveslibrary.org
SUMMARY:EVENING BOOK GROUP - JUNE 26 @ 5:00 PM
DESCRIPTION:Evening Book Group \nJoin us on Thursday\, June 26\, at 5:00 p.m. for this month’s book group. The book this month is Forgotten on Sunday by Valerie Perrin. All are welcome to attend. \n \n  \nPlease give us a call at 207-967-2778 for more information on this event and other upcoming reads. \n  \n\n  \n 
URL:https://graveslibrary.org/event/evening-book-group-june-26-500-pm/
LOCATION:Louis T. Graves Memorial Public Library @ 18 Maine St\, Kennebunkport\, ME 04046\, USA\, 18 Maine Street\, Kennebunkport\, ME\, 04046\, United States
CATEGORIES:General Events
ORGANIZER;CN="Loretta Swift%2C Library Director":MAILTO:lbsgraves@gmail.com
GEO:43.34755;-70.469411
X-APPLE-STRUCTURED-LOCATION;VALUE=URI;X-ADDRESS=Louis T. Graves Memorial Public Library @ 18 Maine St Kennebunkport ME 04046 USA 18 Maine Street Kennebunkport ME 04046 United States;X-APPLE-RADIUS=500;X-TITLE=18 Maine Street:geo:-70.469411,43.34755
END:VEVENT
END:VCALENDAR