BEGIN:VCALENDAR
VERSION:2.0
PRODID:-//Louis T Graves Memorial Public Library - ECPv6.15.20//NONSGML v1.0//EN
CALSCALE:GREGORIAN
METHOD:PUBLISH
X-WR-CALNAME:Louis T Graves Memorial Public Library
X-ORIGINAL-URL:https://graveslibrary.org
X-WR-CALDESC:Events for Louis T Graves Memorial Public Library
REFRESH-INTERVAL;VALUE=DURATION:PT1H
X-Robots-Tag:noindex
X-PUBLISHED-TTL:PT1H
BEGIN:VTIMEZONE
TZID:America/New_York
BEGIN:DAYLIGHT
TZOFFSETFROM:-0500
TZOFFSETTO:-0400
TZNAME:EDT
DTSTART:20240310T070000
END:DAYLIGHT
BEGIN:STANDARD
TZOFFSETFROM:-0400
TZOFFSETTO:-0500
TZNAME:EST
DTSTART:20241103T060000
END:STANDARD
BEGIN:DAYLIGHT
TZOFFSETFROM:-0500
TZOFFSETTO:-0400
TZNAME:EDT
DTSTART:20250309T070000
END:DAYLIGHT
BEGIN:STANDARD
TZOFFSETFROM:-0400
TZOFFSETTO:-0500
TZNAME:EST
DTSTART:20251102T060000
END:STANDARD
BEGIN:DAYLIGHT
TZOFFSETFROM:-0500
TZOFFSETTO:-0400
TZNAME:EDT
DTSTART:20260308T070000
END:DAYLIGHT
BEGIN:STANDARD
TZOFFSETFROM:-0400
TZOFFSETTO:-0500
TZNAME:EST
DTSTART:20261101T060000
END:STANDARD
END:VTIMEZONE
BEGIN:VEVENT
DTSTART;TZID=America/New_York:20250424T170000
DTEND;TZID=America/New_York:20250424T180000
DTSTAMP:20260425T225924
CREATED:20250314T190232Z
LAST-MODIFIED:20250314T190232Z
UID:10005668-1745514000-1745517600@graveslibrary.org
SUMMARY:EVENING BOOK GROUP - APRIL 24 @ 5:00 PM
DESCRIPTION:Evening Book Group \nJoin us on Thursday\, April 24 at 5:00 p.m. for this month’s book group. The book this month is How to Read a Book by Monica Wood. All are welcome to attend. \n  \n \nPlease give us a call at 967-2778 for more information on this event and other upcoming reads. \n  \n\n  \n 
URL:https://graveslibrary.org/event/evening-book-group-april-24-500-pm/
LOCATION:Louis T. Graves Memorial Public Library @ 18 Maine St\, Kennebunkport\, ME 04046\, USA\, 18 Maine Street\, Kennebunkport\, ME\, 04046\, United States
CATEGORIES:General Events
ORGANIZER;CN="Loretta Swift%2C Library Director":MAILTO:lbsgraves@gmail.com
GEO:43.34755;-70.469411
X-APPLE-STRUCTURED-LOCATION;VALUE=URI;X-ADDRESS=Louis T. Graves Memorial Public Library @ 18 Maine St Kennebunkport ME 04046 USA 18 Maine Street Kennebunkport ME 04046 United States;X-APPLE-RADIUS=500;X-TITLE=18 Maine Street:geo:-70.469411,43.34755
END:VEVENT
BEGIN:VEVENT
DTSTART;TZID=America/New_York:20250424T184500
DTEND;TZID=America/New_York:20250424T203000
DTSTAMP:20260425T225924
CREATED:20250314T190530Z
LAST-MODIFIED:20250409T203719Z
UID:10005669-1745520300-1745526600@graveslibrary.org
SUMMARY:MOVIE NIGHT AT GRAVES LIBRARY - APRIL 24 @ 6:45 PM
DESCRIPTION:We hope you will join us in the Community Room for our monthly movie night! Bring your family and friends\, it’s always a fun time. Enjoy beverages and popcorn. Let us know if you have any questions (967-2778). \n  \n \n  \n  \n  \n  \n  \n  \n 
URL:https://graveslibrary.org/event/movie-night-at-graves-library-april-at-645-pm/
LOCATION:Louis T. Graves Memorial Public Library @ 18 Maine St\, Kennebunkport\, ME 04046\, USA\, 18 Maine Street\, Kennebunkport\, ME\, 04046\, United States
CATEGORIES:General Events
ORGANIZER;CN="Loretta Swift%2C Library Director":MAILTO:lbsgraves@gmail.com
GEO:43.34755;-70.469411
X-APPLE-STRUCTURED-LOCATION;VALUE=URI;X-ADDRESS=Louis T. Graves Memorial Public Library @ 18 Maine St Kennebunkport ME 04046 USA 18 Maine Street Kennebunkport ME 04046 United States;X-APPLE-RADIUS=500;X-TITLE=18 Maine Street:geo:-70.469411,43.34755
END:VEVENT
END:VCALENDAR