BEGIN:VCALENDAR
VERSION:2.0
PRODID:-//Louis T Graves Memorial Public Library - ECPv6.15.20//NONSGML v1.0//EN
CALSCALE:GREGORIAN
METHOD:PUBLISH
X-WR-CALNAME:Louis T Graves Memorial Public Library
X-ORIGINAL-URL:https://graveslibrary.org
X-WR-CALDESC:Events for Louis T Graves Memorial Public Library
REFRESH-INTERVAL;VALUE=DURATION:PT1H
X-Robots-Tag:noindex
X-PUBLISHED-TTL:PT1H
BEGIN:VTIMEZONE
TZID:America/New_York
BEGIN:DAYLIGHT
TZOFFSETFROM:-0500
TZOFFSETTO:-0400
TZNAME:EDT
DTSTART:20250309T070000
END:DAYLIGHT
BEGIN:STANDARD
TZOFFSETFROM:-0400
TZOFFSETTO:-0500
TZNAME:EST
DTSTART:20251102T060000
END:STANDARD
BEGIN:DAYLIGHT
TZOFFSETFROM:-0500
TZOFFSETTO:-0400
TZNAME:EDT
DTSTART:20260308T070000
END:DAYLIGHT
BEGIN:STANDARD
TZOFFSETFROM:-0400
TZOFFSETTO:-0500
TZNAME:EST
DTSTART:20261101T060000
END:STANDARD
BEGIN:DAYLIGHT
TZOFFSETFROM:-0500
TZOFFSETTO:-0400
TZNAME:EDT
DTSTART:20270314T070000
END:DAYLIGHT
BEGIN:STANDARD
TZOFFSETFROM:-0400
TZOFFSETTO:-0500
TZNAME:EST
DTSTART:20271107T060000
END:STANDARD
END:VTIMEZONE
BEGIN:VEVENT
DTSTART;TZID=America/New_York:20260312T153000
DTEND;TZID=America/New_York:20260312T163000
DTSTAMP:20260421T090046
CREATED:20260219T193828Z
LAST-MODIFIED:20260219T193828Z
UID:10006203-1773329400-1773333000@graveslibrary.org
SUMMARY:TELLING ROOM
DESCRIPTION:The Telling Room – Thursday\, March 12\, 3:30-4:30 PM \nDo you want to write and publish your own book? The Telling Room’s Young Emerging Authors program is a free\, paid\, 15 month-long writing and publishing program. Every spring\, we select four Maine teenagers in grades 8 -12 to write\, edit\, and publish their own books. Join Devin Gifford\, a junior at Dartmouth College\, YEA alum and author of “The Unraveling” to hear about the program. She will discuss the process of writing a book\, as well as help get your own writing going with games and prompts. This program is for students in grades 7-12\, and pre-registration is encouraged. Light refreshments will be provided. \n \nThe Louis T. Graves Memorial Public Library is located at 18 Maine Street\, Kennebunkport. For further information\, please call 207-967-2778 and ask for the Junior Room or visit www.graveslibrary.org.
URL:https://graveslibrary.org/event/telling-room/
LOCATION:Louis T. Graves Memorial Public Library @ 18 Maine St\, Kennebunkport\, ME 04046\, USA\, 18 Maine Street\, Kennebunkport\, ME\, 04046\, United States
CATEGORIES:Kids And Teen Events
ORGANIZER;CN="Terri Bauld%2C Children's Librarian":MAILTO:tbbgraves@gmail.com
GEO:43.34755;-70.469411
X-APPLE-STRUCTURED-LOCATION;VALUE=URI;X-ADDRESS=Louis T. Graves Memorial Public Library @ 18 Maine St Kennebunkport ME 04046 USA 18 Maine Street Kennebunkport ME 04046 United States;X-APPLE-RADIUS=500;X-TITLE=18 Maine Street:geo:-70.469411,43.34755
END:VEVENT
END:VCALENDAR